BEGIN:VCALENDAR
VERSION:2.0
PRODID:PHP
METHOD:REQUEST
X-ORIGINAL-URL:http://nwtfv.com/nrw-tischfussball-kicker-liga/nrw-tischfussball-kickern-verbandsliga?task=team_begegnungen_ical&id=3850
X-WR-CALNAME;VALUE=TEXT:Arminia Bielefeld 2
BEGIN:VEVENT
CLASS:PUBLIC
DTSTART:20230402T100000Z
DURATION:PT2H30M
STATUS:CONFIRMED
SUMMARY:Arminia Bielefeld 2 vs. Schovelkoten Münster 3
DESCRIPTION:Verbandsliga B (1. Spieltag)\nErgebnis: 8:0 (16:1)
LOCATION:Vereinsheim DSC Arminia Bielefeld, Meller Str. 2, 33613 Bielefeld
UID:SM-B11729@nwtfv.com
PRIORITY:5
SEQUENCE:1
CATEGORIES:SPORT
DTSTAMP:20260422T045657
BEGIN:VALARM
ACTION:DISPLAY
TRIGGER:-PT2H
END:VALARM
END:VEVENT
BEGIN:VEVENT
CLASS:PUBLIC
DTSTART:20230402T123000Z
DURATION:PT2H30M
STATUS:CONFIRMED
SUMMARY:Arminia Bielefeld 2 vs. Kickerkönige
DESCRIPTION:Verbandsliga B (1. Spieltag)\nErgebnis: 6:2 (14:7)
LOCATION:Vereinsheim DSC Arminia Bielefeld, Meller Str. 2, 33613 Bielefeld
UID:SM-B11734@nwtfv.com
PRIORITY:5
SEQUENCE:1
CATEGORIES:SPORT
DTSTAMP:20260422T045657
BEGIN:VALARM
ACTION:DISPLAY
TRIGGER:-PT2H
END:VALARM
END:VEVENT
BEGIN:VEVENT
CLASS:PUBLIC
DTSTART:20230402T150000Z
DURATION:PT2H30M
STATUS:CONFIRMED
SUMMARY:Rubberduck Werne vs. Arminia Bielefeld 2
DESCRIPTION:Verbandsliga B (1. Spieltag)\nErgebnis: 2:6 (4:13)
LOCATION:Vereinsheim DSC Arminia Bielefeld, Meller Str. 2, 33613 Bielefeld
UID:SM-B11742@nwtfv.com
PRIORITY:5
SEQUENCE:1
CATEGORIES:SPORT
DTSTAMP:20260422T045657
BEGIN:VALARM
ACTION:DISPLAY
TRIGGER:-PT2H
END:VALARM
END:VEVENT
BEGIN:VEVENT
CLASS:PUBLIC
DTSTART:20230416T100000Z
DURATION:PT2H30M
STATUS:CONFIRMED
SUMMARY:Arminia Bielefeld 2 vs. Kickerfreunde Oberhausen 1
DESCRIPTION:Verbandsliga B (2. Spieltag)\nErgebnis: 7:1 (15:5)
LOCATION:Vereinsheim DSC Arminia Bielefeld, Meller Str. 2, 33613 Bielefeld
UID:SM-B11744@nwtfv.com
PRIORITY:5
SEQUENCE:1
CATEGORIES:SPORT
DTSTAMP:20260422T045657
BEGIN:VALARM
ACTION:DISPLAY
TRIGGER:-PT2H
END:VALARM
END:VEVENT
BEGIN:VEVENT
CLASS:PUBLIC
DTSTART:20230416T123000Z
DURATION:PT2H30M
STATUS:CONFIRMED
SUMMARY:TFC Paderwahn 4 vs. Arminia Bielefeld 2
DESCRIPTION:Verbandsliga B (2. Spieltag)\nErgebnis: 1:7 (5:14)
LOCATION:Beketalhalle, Alte Amtsstraße 25, 33100 Paderborn
UID:SM-B11750@nwtfv.com
PRIORITY:5
SEQUENCE:1
CATEGORIES:SPORT
DTSTAMP:20260422T045657
BEGIN:VALARM
ACTION:DISPLAY
TRIGGER:-PT2H
END:VALARM
END:VEVENT
BEGIN:VEVENT
CLASS:PUBLIC
DTSTART:20230416T150000Z
DURATION:PT2H30M
STATUS:CONFIRMED
SUMMARY:Arminia Bielefeld 2 vs. KKC Haltern am See
DESCRIPTION:Verbandsliga B (2. Spieltag)\nErgebnis: 6:2 (14:7)
LOCATION:Vereinsheim DSC Arminia Bielefeld, Meller Str. 2, 33613 Bielefeld
UID:SM-B11754@nwtfv.com
PRIORITY:5
SEQUENCE:1
CATEGORIES:SPORT
DTSTAMP:20260422T045657
BEGIN:VALARM
ACTION:DISPLAY
TRIGGER:-PT2H
END:VALARM
END:VEVENT
BEGIN:VEVENT
CLASS:PUBLIC
DTSTART:20230813T100000Z
DURATION:PT2H30M
STATUS:CONFIRMED
SUMMARY:Arminia Bielefeld 2 vs. Schovelkoten Münster 4
DESCRIPTION:Verbandsliga B (3. Spieltag)\nErgebnis: 6:2 (12:8)
LOCATION:Beketalhalle, Alte Amtsstraße 25, 33100 Paderborn
UID:SM-B11759@nwtfv.com
PRIORITY:5
SEQUENCE:1
CATEGORIES:SPORT
DTSTAMP:20260422T045657
BEGIN:VALARM
ACTION:DISPLAY
TRIGGER:-PT2H
END:VALARM
END:VEVENT
BEGIN:VEVENT
CLASS:PUBLIC
DTSTART:20230813T123000Z
DURATION:PT2H30M
STATUS:CONFIRMED
SUMMARY:TFC Paderwahn 3 vs. Arminia Bielefeld 2
DESCRIPTION:Verbandsliga B (3. Spieltag)\nErgebnis: 2:6 (5:14)
LOCATION:Beketalhalle, Alte Amtsstraße 25, 33100 Paderborn
UID:SM-B11765@nwtfv.com
PRIORITY:5
SEQUENCE:1
CATEGORIES:SPORT
DTSTAMP:20260422T045657
BEGIN:VALARM
ACTION:DISPLAY
TRIGGER:-PT2H
END:VALARM
END:VEVENT
BEGIN:VEVENT
CLASS:PUBLIC
DTSTART:20230813T150000Z
DURATION:PT2H30M
STATUS:CONFIRMED
SUMMARY:TFV Piranhas Bochum 1 vs. Arminia Bielefeld 2
DESCRIPTION:Verbandsliga B (3. Spieltag)\nErgebnis: 1:7 (4:15)
LOCATION:Beketalhalle, Alte Amtsstraße 25, 33100 Paderborn
UID:SM-B11773@nwtfv.com
PRIORITY:5
SEQUENCE:1
CATEGORIES:SPORT
DTSTAMP:20260422T045657
BEGIN:VALARM
ACTION:DISPLAY
TRIGGER:-PT2H
END:VALARM
END:VEVENT
BEGIN:VEVENT
CLASS:PUBLIC
DTSTART:20230924T100000Z
DURATION:PT2H30M
STATUS:CONFIRMED
SUMMARY:Schovelkoten Münster 3 vs. Arminia Bielefeld 2
DESCRIPTION:Verbandsliga B (4. Spieltag)\nErgebnis: 3:5 (8:13)
LOCATION:Kölner Kickerfabrik, Kartäuserwall 55, 50677 Köln
UID:SM-B11774@nwtfv.com
PRIORITY:5
SEQUENCE:1
CATEGORIES:SPORT
DTSTAMP:20260422T045657
BEGIN:VALARM
ACTION:DISPLAY
TRIGGER:-PT2H
END:VALARM
END:VEVENT
BEGIN:VEVENT
CLASS:PUBLIC
DTSTART:20230924T123000Z
DURATION:PT2H30M
STATUS:CONFIRMED
SUMMARY:Kickerkönige vs. Arminia Bielefeld 2
DESCRIPTION:Verbandsliga B (4. Spieltag)\nErgebnis: 5:3 (11:11)
LOCATION:Kölner Kickerfabrik, Kartäuserwall 55, 50677 Köln
UID:SM-B11779@nwtfv.com
PRIORITY:5
SEQUENCE:1
CATEGORIES:SPORT
DTSTAMP:20260422T045657
BEGIN:VALARM
ACTION:DISPLAY
TRIGGER:-PT2H
END:VALARM
END:VEVENT
BEGIN:VEVENT
CLASS:PUBLIC
DTSTART:20230924T150000Z
DURATION:PT2H30M
STATUS:CONFIRMED
SUMMARY:Arminia Bielefeld 2 vs. Rubberduck Werne
DESCRIPTION:Verbandsliga B (4. Spieltag)\nErgebnis: 8:0 (16:0)
LOCATION:Kölner Kickerfabrik, Kartäuserwall 55, 50677 Köln
UID:SM-B11787@nwtfv.com
PRIORITY:5
SEQUENCE:1
CATEGORIES:SPORT
DTSTAMP:20260422T045657
BEGIN:VALARM
ACTION:DISPLAY
TRIGGER:-PT2H
END:VALARM
END:VEVENT
BEGIN:VEVENT
CLASS:PUBLIC
DTSTART:20231029T110000Z
DURATION:PT2H30M
STATUS:CONFIRMED
SUMMARY:Kickerfreunde Oberhausen 1 vs. Arminia Bielefeld 2
DESCRIPTION:Verbandsliga B (5. Spieltag)\nErgebnis: 1:7 (5:15)
LOCATION:Vereinsheim Oberhausen, Bürgerstraße 15, 46049 Oberhausen
UID:SM-B11789@nwtfv.com
PRIORITY:5
SEQUENCE:1
CATEGORIES:SPORT
DTSTAMP:20260422T045657
BEGIN:VALARM
ACTION:DISPLAY
TRIGGER:-PT2H
END:VALARM
END:VEVENT
BEGIN:VEVENT
CLASS:PUBLIC
DTSTART:20231029T133000Z
DURATION:PT2H30M
STATUS:CONFIRMED
SUMMARY:Arminia Bielefeld 2 vs. TFC Paderwahn 4
DESCRIPTION:Verbandsliga B (5. Spieltag)\nErgebnis: 7:1 (14:3)
LOCATION:Vereinsheim Oberhausen, Bürgerstraße 15, 46049 Oberhausen
UID:SM-B11795@nwtfv.com
PRIORITY:5
SEQUENCE:1
CATEGORIES:SPORT
DTSTAMP:20260422T045657
BEGIN:VALARM
ACTION:DISPLAY
TRIGGER:-PT2H
END:VALARM
END:VEVENT
BEGIN:VEVENT
CLASS:PUBLIC
DTSTART:20231029T160000Z
DURATION:PT2H30M
STATUS:CONFIRMED
SUMMARY:KKC Haltern am See vs. Arminia Bielefeld 2
DESCRIPTION:Verbandsliga B (5. Spieltag)\nErgebnis: 3:5 (7:11)
LOCATION:Vereinsheim Oberhausen, Bürgerstraße 15, 46049 Oberhausen
UID:SM-B11799@nwtfv.com
PRIORITY:5
SEQUENCE:1
CATEGORIES:SPORT
DTSTAMP:20260422T045657
BEGIN:VALARM
ACTION:DISPLAY
TRIGGER:-PT2H
END:VALARM
END:VEVENT
BEGIN:VEVENT
CLASS:PUBLIC
DTSTART:20231105T110000Z
DURATION:PT2H30M
STATUS:CONFIRMED
SUMMARY:Schovelkoten Münster 4 vs. Arminia Bielefeld 2
DESCRIPTION:Verbandsliga B (6. Spieltag)\nErgebnis: 2:6 (6:13)
LOCATION:Vereinsheim DSC Arminia Bielefeld, Meller Str. 2, 33613 Bielefeld
UID:SM-B11804@nwtfv.com
PRIORITY:5
SEQUENCE:1
CATEGORIES:SPORT
DTSTAMP:20260422T045657
BEGIN:VALARM
ACTION:DISPLAY
TRIGGER:-PT2H
END:VALARM
END:VEVENT
BEGIN:VEVENT
CLASS:PUBLIC
DTSTART:20231105T133000Z
DURATION:PT2H30M
STATUS:CONFIRMED
SUMMARY:Arminia Bielefeld 2 vs. TFC Paderwahn 3
DESCRIPTION:Verbandsliga B (6. Spieltag)\nErgebnis: 6:2 (13:6)
LOCATION:Vereinsheim DSC Arminia Bielefeld, Meller Str. 2, 33613 Bielefeld
UID:SM-B11810@nwtfv.com
PRIORITY:5
SEQUENCE:1
CATEGORIES:SPORT
DTSTAMP:20260422T045657
BEGIN:VALARM
ACTION:DISPLAY
TRIGGER:-PT2H
END:VALARM
END:VEVENT
BEGIN:VEVENT
CLASS:PUBLIC
DTSTART:20231105T160000Z
DURATION:PT2H30M
STATUS:CONFIRMED
SUMMARY:Arminia Bielefeld 2 vs. TFV Piranhas Bochum 1
DESCRIPTION:Verbandsliga B (6. Spieltag)\nErgebnis: 3:5 (9:10)
LOCATION:Vereinsheim DSC Arminia Bielefeld, Meller Str. 2, 33613 Bielefeld
UID:SM-B11818@nwtfv.com
PRIORITY:5
SEQUENCE:1
CATEGORIES:SPORT
DTSTAMP:20260422T045657
BEGIN:VALARM
ACTION:DISPLAY
TRIGGER:-PT2H
END:VALARM
END:VEVENT
END:VCALENDAR
