BEGIN:VCALENDAR
VERSION:2.0
PRODID:PHP
METHOD:REQUEST
X-ORIGINAL-URL:http://nwtfv.com/nrw-tischfussball-kicker-liga/nrw-tischfussball-kickern-verbandsliga?task=team_begegnungen_ical&id=3852
X-WR-CALNAME;VALUE=TEXT:Kickerkönige
BEGIN:VEVENT
CLASS:PUBLIC
DTSTART:20230402T100000Z
DURATION:PT2H30M
STATUS:CONFIRMED
SUMMARY:Kickerkönige vs. TFC Paderwahn 3
DESCRIPTION:Verbandsliga B (1. Spieltag)\nErgebnis: 4:4 (10:10)
LOCATION:Vereinsheim DSC Arminia Bielefeld, Meller Str. 2, 33613 Bielefeld
UID:SM-B11731@nwtfv.com
PRIORITY:5
SEQUENCE:1
CATEGORIES:SPORT
DTSTAMP:20260422T045617
BEGIN:VALARM
ACTION:DISPLAY
TRIGGER:-PT2H
END:VALARM
END:VEVENT
BEGIN:VEVENT
CLASS:PUBLIC
DTSTART:20230402T123000Z
DURATION:PT2H30M
STATUS:CONFIRMED
SUMMARY:Arminia Bielefeld 2 vs. Kickerkönige
DESCRIPTION:Verbandsliga B (1. Spieltag)\nErgebnis: 6:2 (14:7)
LOCATION:Vereinsheim DSC Arminia Bielefeld, Meller Str. 2, 33613 Bielefeld
UID:SM-B11734@nwtfv.com
PRIORITY:5
SEQUENCE:1
CATEGORIES:SPORT
DTSTAMP:20260422T045617
BEGIN:VALARM
ACTION:DISPLAY
TRIGGER:-PT2H
END:VALARM
END:VEVENT
BEGIN:VEVENT
CLASS:PUBLIC
DTSTART:20230402T150000Z
DURATION:PT2H30M
STATUS:CONFIRMED
SUMMARY:TFV Piranhas Bochum 1 vs. Kickerkönige
DESCRIPTION:Verbandsliga B (1. Spieltag)\nErgebnis: 2:6 (8:12)
LOCATION:Vereinsheim DSC Arminia Bielefeld, Meller Str. 2, 33613 Bielefeld
UID:SM-B11743@nwtfv.com
PRIORITY:5
SEQUENCE:1
CATEGORIES:SPORT
DTSTAMP:20260422T045617
BEGIN:VALARM
ACTION:DISPLAY
TRIGGER:-PT2H
END:VALARM
END:VEVENT
BEGIN:VEVENT
CLASS:PUBLIC
DTSTART:20230416T100000Z
DURATION:PT2H30M
STATUS:CONFIRMED
SUMMARY:Schovelkoten Münster 3 vs. Kickerkönige
DESCRIPTION:Verbandsliga B (2. Spieltag)\nErgebnis: 5:3 (11:7)
LOCATION:Kölner Kickerfabrik, Kartäuserwall 55, 50677 Köln
UID:SM-B11745@nwtfv.com
PRIORITY:5
SEQUENCE:1
CATEGORIES:SPORT
DTSTAMP:20260422T045617
BEGIN:VALARM
ACTION:DISPLAY
TRIGGER:-PT2H
END:VALARM
END:VEVENT
BEGIN:VEVENT
CLASS:PUBLIC
DTSTART:20230416T123000Z
DURATION:PT2H30M
STATUS:CONFIRMED
SUMMARY:Kickerkönige vs. Schovelkoten Münster 4
DESCRIPTION:Verbandsliga B (2. Spieltag)\nErgebnis: 4:4 (11:9)
LOCATION:Kölner Kickerfabrik, Kartäuserwall 55, 50677 Köln
UID:SM-B11751@nwtfv.com
PRIORITY:5
SEQUENCE:1
CATEGORIES:SPORT
DTSTAMP:20260422T045617
BEGIN:VALARM
ACTION:DISPLAY
TRIGGER:-PT2H
END:VALARM
END:VEVENT
BEGIN:VEVENT
CLASS:PUBLIC
DTSTART:20230416T150000Z
DURATION:PT2H30M
STATUS:CONFIRMED
SUMMARY:Rubberduck Werne vs. Kickerkönige
DESCRIPTION:Verbandsliga B (2. Spieltag)\nErgebnis: 2:6 (8:12)
LOCATION:Kölner Kickerfabrik, Kartäuserwall 55, 50677 Köln
UID:SM-B11758@nwtfv.com
PRIORITY:5
SEQUENCE:1
CATEGORIES:SPORT
DTSTAMP:20260422T045617
BEGIN:VALARM
ACTION:DISPLAY
TRIGGER:-PT2H
END:VALARM
END:VEVENT
BEGIN:VEVENT
CLASS:PUBLIC
DTSTART:20230813T100000Z
DURATION:PT2H30M
STATUS:CONFIRMED
SUMMARY:Kickerkönige vs. KKC Haltern am See
DESCRIPTION:Verbandsliga B (3. Spieltag)\nErgebnis: 5:3 (13:10)
LOCATION:Vereinsheim Münster, Lütkenbecker Weg 25, 48155 Münster
UID:SM-B11762@nwtfv.com
PRIORITY:5
SEQUENCE:1
CATEGORIES:SPORT
DTSTAMP:20260422T045617
BEGIN:VALARM
ACTION:DISPLAY
TRIGGER:-PT2H
END:VALARM
END:VEVENT
BEGIN:VEVENT
CLASS:PUBLIC
DTSTART:20230813T123000Z
DURATION:PT2H30M
STATUS:CONFIRMED
SUMMARY:Kickerkönige vs. Kickerfreunde Oberhausen 1
DESCRIPTION:Verbandsliga B (3. Spieltag)\nErgebnis: 6:2 (14:9)
LOCATION:Vereinsheim Münster, Lütkenbecker Weg 25, 48155 Münster
UID:SM-B11767@nwtfv.com
PRIORITY:5
SEQUENCE:1
CATEGORIES:SPORT
DTSTAMP:20260422T045617
BEGIN:VALARM
ACTION:DISPLAY
TRIGGER:-PT2H
END:VALARM
END:VEVENT
BEGIN:VEVENT
CLASS:PUBLIC
DTSTART:20230813T150000Z
DURATION:PT2H30M
STATUS:CONFIRMED
SUMMARY:TFC Paderwahn 4 vs. Kickerkönige
DESCRIPTION:Verbandsliga B (3. Spieltag)\nErgebnis: 1:7 (3:15)
LOCATION:Vereinsheim Münster, Lütkenbecker Weg 25, 48155 Münster
UID:SM-B11771@nwtfv.com
PRIORITY:5
SEQUENCE:1
CATEGORIES:SPORT
DTSTAMP:20260422T045617
BEGIN:VALARM
ACTION:DISPLAY
TRIGGER:-PT2H
END:VALARM
END:VEVENT
BEGIN:VEVENT
CLASS:PUBLIC
DTSTART:20230924T100000Z
DURATION:PT2H30M
STATUS:CONFIRMED
SUMMARY:TFC Paderwahn 3 vs. Kickerkönige
DESCRIPTION:Verbandsliga B (4. Spieltag)\nErgebnis: 0:8 (3:16)
LOCATION:Kölner Kickerfabrik, Kartäuserwall 55, 50677 Köln
UID:SM-B11776@nwtfv.com
PRIORITY:5
SEQUENCE:1
CATEGORIES:SPORT
DTSTAMP:20260422T045617
BEGIN:VALARM
ACTION:DISPLAY
TRIGGER:-PT2H
END:VALARM
END:VEVENT
BEGIN:VEVENT
CLASS:PUBLIC
DTSTART:20230924T123000Z
DURATION:PT2H30M
STATUS:CONFIRMED
SUMMARY:Kickerkönige vs. Arminia Bielefeld 2
DESCRIPTION:Verbandsliga B (4. Spieltag)\nErgebnis: 5:3 (11:11)
LOCATION:Kölner Kickerfabrik, Kartäuserwall 55, 50677 Köln
UID:SM-B11779@nwtfv.com
PRIORITY:5
SEQUENCE:1
CATEGORIES:SPORT
DTSTAMP:20260422T045617
BEGIN:VALARM
ACTION:DISPLAY
TRIGGER:-PT2H
END:VALARM
END:VEVENT
BEGIN:VEVENT
CLASS:PUBLIC
DTSTART:20230924T150000Z
DURATION:PT2H30M
STATUS:CONFIRMED
SUMMARY:Kickerkönige vs. TFV Piranhas Bochum 1
DESCRIPTION:Verbandsliga B (4. Spieltag)\nErgebnis: 7:1 (15:5)
LOCATION:Kölner Kickerfabrik, Kartäuserwall 55, 50677 Köln
UID:SM-B11788@nwtfv.com
PRIORITY:5
SEQUENCE:1
CATEGORIES:SPORT
DTSTAMP:20260422T045617
BEGIN:VALARM
ACTION:DISPLAY
TRIGGER:-PT2H
END:VALARM
END:VEVENT
BEGIN:VEVENT
CLASS:PUBLIC
DTSTART:20231029T110000Z
DURATION:PT2H30M
STATUS:CONFIRMED
SUMMARY:Kickerkönige vs. Schovelkoten Münster 3
DESCRIPTION:Verbandsliga B (5. Spieltag)\nErgebnis: 2:6 (6:13)
LOCATION:Vereinsheim Werne, An der Wiebecke 11, 59368 Werne
UID:SM-B11790@nwtfv.com
PRIORITY:5
SEQUENCE:1
CATEGORIES:SPORT
DTSTAMP:20260422T045617
BEGIN:VALARM
ACTION:DISPLAY
TRIGGER:-PT2H
END:VALARM
END:VEVENT
BEGIN:VEVENT
CLASS:PUBLIC
DTSTART:20231029T133000Z
DURATION:PT2H30M
STATUS:CONFIRMED
SUMMARY:Schovelkoten Münster 4 vs. Kickerkönige
DESCRIPTION:Verbandsliga B (5. Spieltag)\nErgebnis: 5:3 (12:9)
LOCATION:Vereinsheim Werne, An der Wiebecke 11, 59368 Werne
UID:SM-B11796@nwtfv.com
PRIORITY:5
SEQUENCE:1
CATEGORIES:SPORT
DTSTAMP:20260422T045617
BEGIN:VALARM
ACTION:DISPLAY
TRIGGER:-PT2H
END:VALARM
END:VEVENT
BEGIN:VEVENT
CLASS:PUBLIC
DTSTART:20231029T160000Z
DURATION:PT2H30M
STATUS:CONFIRMED
SUMMARY:Kickerkönige vs. Rubberduck Werne
DESCRIPTION:Verbandsliga B (5. Spieltag)\nErgebnis: 3:5 (9:11)
LOCATION:Vereinsheim Werne, An der Wiebecke 11, 59368 Werne
UID:SM-B11803@nwtfv.com
PRIORITY:5
SEQUENCE:1
CATEGORIES:SPORT
DTSTAMP:20260422T045617
BEGIN:VALARM
ACTION:DISPLAY
TRIGGER:-PT2H
END:VALARM
END:VEVENT
BEGIN:VEVENT
CLASS:PUBLIC
DTSTART:20231105T110000Z
DURATION:PT2H30M
STATUS:CONFIRMED
SUMMARY:KKC Haltern am See vs. Kickerkönige
DESCRIPTION:Verbandsliga B (6. Spieltag)\nErgebnis: 4:4 (11:10)
LOCATION:Alter Schiessstand, Erzbischof-Buddenbrock-Str.3, 45721 Haltern am See-Lipprsmsdorf
UID:SM-B11807@nwtfv.com
PRIORITY:5
SEQUENCE:1
CATEGORIES:SPORT
DTSTAMP:20260422T045617
BEGIN:VALARM
ACTION:DISPLAY
TRIGGER:-PT2H
END:VALARM
END:VEVENT
BEGIN:VEVENT
CLASS:PUBLIC
DTSTART:20231105T133000Z
DURATION:PT2H30M
STATUS:CONFIRMED
SUMMARY:Kickerfreunde Oberhausen 1 vs. Kickerkönige
DESCRIPTION:Verbandsliga B (6. Spieltag)\nErgebnis: 3:5 (10:12)
LOCATION:Alter Schiessstand, Erzbischof-Buddenbrock-Str.3, 45721 Haltern am See-Lipprsmsdorf
UID:SM-B11812@nwtfv.com
PRIORITY:5
SEQUENCE:1
CATEGORIES:SPORT
DTSTAMP:20260422T045617
BEGIN:VALARM
ACTION:DISPLAY
TRIGGER:-PT2H
END:VALARM
END:VEVENT
BEGIN:VEVENT
CLASS:PUBLIC
DTSTART:20231105T160000Z
DURATION:PT2H30M
STATUS:CONFIRMED
SUMMARY:Kickerkönige vs. TFC Paderwahn 4
DESCRIPTION:Verbandsliga B (6. Spieltag)\nErgebnis: 4:4 (10:10)
LOCATION:Alter Schiessstand, Erzbischof-Buddenbrock-Str.3, 45721 Haltern am See-Lipprsmsdorf
UID:SM-B11816@nwtfv.com
PRIORITY:5
SEQUENCE:1
CATEGORIES:SPORT
DTSTAMP:20260422T045617
BEGIN:VALARM
ACTION:DISPLAY
TRIGGER:-PT2H
END:VALARM
END:VEVENT
END:VCALENDAR
