BEGIN:VCALENDAR
VERSION:2.0
PRODID:PHP
METHOD:REQUEST
X-ORIGINAL-URL:http://nwtfv.com/nrw-tischfussball-kicker-liga/nrw-tischfussball-kickern-verbandsliga?task=team_begegnungen_ical&id=3856
X-WR-CALNAME;VALUE=TEXT:Schovelkoten Münster 4
BEGIN:VEVENT
CLASS:PUBLIC
DTSTART:20230402T100000Z
DURATION:PT2H30M
STATUS:CONFIRMED
SUMMARY:Kickerfreunde Oberhausen 1 vs. Schovelkoten Münster 4
DESCRIPTION:Verbandsliga B (1. Spieltag)\nErgebnis: 4:4 (10:9)
LOCATION:Vereinsheim Oberhausen, Bürgerstraße 15, 46049 Oberhausen
UID:SM-B11730@nwtfv.com
PRIORITY:5
SEQUENCE:1
CATEGORIES:SPORT
DTSTAMP:20260422T034941
BEGIN:VALARM
ACTION:DISPLAY
TRIGGER:-PT2H
END:VALARM
END:VEVENT
BEGIN:VEVENT
CLASS:PUBLIC
DTSTART:20230402T123000Z
DURATION:PT2H30M
STATUS:CONFIRMED
SUMMARY:KKC Haltern am See vs. Schovelkoten Münster 4
DESCRIPTION:Verbandsliga B (1. Spieltag)\nErgebnis: 2:6 (6:12)
LOCATION:Vereinsheim Oberhausen, Bürgerstraße 15, 46049 Oberhausen
UID:SM-B11736@nwtfv.com
PRIORITY:5
SEQUENCE:1
CATEGORIES:SPORT
DTSTAMP:20260422T034941
BEGIN:VALARM
ACTION:DISPLAY
TRIGGER:-PT2H
END:VALARM
END:VEVENT
BEGIN:VEVENT
CLASS:PUBLIC
DTSTART:20230402T150000Z
DURATION:PT2H30M
STATUS:CONFIRMED
SUMMARY:Schovelkoten Münster 4 vs. TFC Paderwahn 4
DESCRIPTION:Verbandsliga B (1. Spieltag)\nErgebnis: 7:1 (14:6)
LOCATION:Vereinsheim Oberhausen, Bürgerstraße 15, 46049 Oberhausen
UID:SM-B11741@nwtfv.com
PRIORITY:5
SEQUENCE:1
CATEGORIES:SPORT
DTSTAMP:20260422T034941
BEGIN:VALARM
ACTION:DISPLAY
TRIGGER:-PT2H
END:VALARM
END:VEVENT
BEGIN:VEVENT
CLASS:PUBLIC
DTSTART:20230416T100000Z
DURATION:PT2H30M
STATUS:CONFIRMED
SUMMARY:Rubberduck Werne vs. Schovelkoten Münster 4
DESCRIPTION:Verbandsliga B (2. Spieltag)\nErgebnis: 4:4 (8:9)
LOCATION:Kölner Kickerfabrik, Kartäuserwall 55, 50677 Köln
UID:SM-B11747@nwtfv.com
PRIORITY:5
SEQUENCE:1
CATEGORIES:SPORT
DTSTAMP:20260422T034941
BEGIN:VALARM
ACTION:DISPLAY
TRIGGER:-PT2H
END:VALARM
END:VEVENT
BEGIN:VEVENT
CLASS:PUBLIC
DTSTART:20230416T123000Z
DURATION:PT2H30M
STATUS:CONFIRMED
SUMMARY:Kickerkönige vs. Schovelkoten Münster 4
DESCRIPTION:Verbandsliga B (2. Spieltag)\nErgebnis: 4:4 (11:9)
LOCATION:Kölner Kickerfabrik, Kartäuserwall 55, 50677 Köln
UID:SM-B11751@nwtfv.com
PRIORITY:5
SEQUENCE:1
CATEGORIES:SPORT
DTSTAMP:20260422T034941
BEGIN:VALARM
ACTION:DISPLAY
TRIGGER:-PT2H
END:VALARM
END:VEVENT
BEGIN:VEVENT
CLASS:PUBLIC
DTSTART:20230416T150000Z
DURATION:PT2H30M
STATUS:CONFIRMED
SUMMARY:Schovelkoten Münster 3 vs. Schovelkoten Münster 4
DESCRIPTION:Verbandsliga B (2. Spieltag)\nErgebnis: 4:4 (11:9)
LOCATION:Kölner Kickerfabrik, Kartäuserwall 55, 50677 Köln
UID:SM-B11755@nwtfv.com
PRIORITY:5
SEQUENCE:1
CATEGORIES:SPORT
DTSTAMP:20260422T034941
BEGIN:VALARM
ACTION:DISPLAY
TRIGGER:-PT2H
END:VALARM
END:VEVENT
BEGIN:VEVENT
CLASS:PUBLIC
DTSTART:20230813T100000Z
DURATION:PT2H30M
STATUS:CONFIRMED
SUMMARY:Arminia Bielefeld 2 vs. Schovelkoten Münster 4
DESCRIPTION:Verbandsliga B (3. Spieltag)\nErgebnis: 6:2 (12:8)
LOCATION:Beketalhalle, Alte Amtsstraße 25, 33100 Paderborn
UID:SM-B11759@nwtfv.com
PRIORITY:5
SEQUENCE:1
CATEGORIES:SPORT
DTSTAMP:20260422T034941
BEGIN:VALARM
ACTION:DISPLAY
TRIGGER:-PT2H
END:VALARM
END:VEVENT
BEGIN:VEVENT
CLASS:PUBLIC
DTSTART:20230813T123000Z
DURATION:PT2H30M
STATUS:CONFIRMED
SUMMARY:TFV Piranhas Bochum 1 vs. Schovelkoten Münster 4
DESCRIPTION:Verbandsliga B (3. Spieltag)\nErgebnis: 3:5 (7:12)
LOCATION:Beketalhalle, Alte Amtsstraße 25, 33100 Paderborn
UID:SM-B11768@nwtfv.com
PRIORITY:5
SEQUENCE:1
CATEGORIES:SPORT
DTSTAMP:20260422T034941
BEGIN:VALARM
ACTION:DISPLAY
TRIGGER:-PT2H
END:VALARM
END:VEVENT
BEGIN:VEVENT
CLASS:PUBLIC
DTSTART:20230813T150000Z
DURATION:PT2H30M
STATUS:CONFIRMED
SUMMARY:TFC Paderwahn 3 vs. Schovelkoten Münster 4
DESCRIPTION:Verbandsliga B (3. Spieltag)\nErgebnis: 4:4 (11:11)
LOCATION:Beketalhalle, Alte Amtsstraße 25, 33100 Paderborn
UID:SM-B11770@nwtfv.com
PRIORITY:5
SEQUENCE:1
CATEGORIES:SPORT
DTSTAMP:20260422T034941
BEGIN:VALARM
ACTION:DISPLAY
TRIGGER:-PT2H
END:VALARM
END:VEVENT
BEGIN:VEVENT
CLASS:PUBLIC
DTSTART:20230924T100000Z
DURATION:PT2H30M
STATUS:CONFIRMED
SUMMARY:Schovelkoten Münster 4 vs. Kickerfreunde Oberhausen 1
DESCRIPTION:Verbandsliga B (4. Spieltag)\nErgebnis: 7:1 (14:7)
LOCATION:Beketalhalle, Alte Amtsstraße 25, 33100 Paderborn
UID:SM-B11775@nwtfv.com
PRIORITY:5
SEQUENCE:1
CATEGORIES:SPORT
DTSTAMP:20260422T034941
BEGIN:VALARM
ACTION:DISPLAY
TRIGGER:-PT2H
END:VALARM
END:VEVENT
BEGIN:VEVENT
CLASS:PUBLIC
DTSTART:20230924T123000Z
DURATION:PT2H30M
STATUS:CONFIRMED
SUMMARY:Schovelkoten Münster 4 vs. KKC Haltern am See
DESCRIPTION:Verbandsliga B (4. Spieltag)\nErgebnis: 4:4 (8:11)
LOCATION:Beketalhalle, Alte Amtsstraße 25, 33100 Paderborn
UID:SM-B11781@nwtfv.com
PRIORITY:5
SEQUENCE:1
CATEGORIES:SPORT
DTSTAMP:20260422T034941
BEGIN:VALARM
ACTION:DISPLAY
TRIGGER:-PT2H
END:VALARM
END:VEVENT
BEGIN:VEVENT
CLASS:PUBLIC
DTSTART:20230924T150000Z
DURATION:PT2H30M
STATUS:CONFIRMED
SUMMARY:TFC Paderwahn 4 vs. Schovelkoten Münster 4
DESCRIPTION:Verbandsliga B (4. Spieltag)\nErgebnis: 3:5 (7:12)
LOCATION:Beketalhalle, Alte Amtsstraße 25, 33100 Paderborn
UID:SM-B11786@nwtfv.com
PRIORITY:5
SEQUENCE:1
CATEGORIES:SPORT
DTSTAMP:20260422T034941
BEGIN:VALARM
ACTION:DISPLAY
TRIGGER:-PT2H
END:VALARM
END:VEVENT
BEGIN:VEVENT
CLASS:PUBLIC
DTSTART:20231029T110000Z
DURATION:PT2H30M
STATUS:CONFIRMED
SUMMARY:Schovelkoten Münster 4 vs. Rubberduck Werne
DESCRIPTION:Verbandsliga B (5. Spieltag)\nErgebnis: 3:5 (8:11)
LOCATION:Vereinsheim Werne, An der Wiebecke 11, 59368 Werne
UID:SM-B11792@nwtfv.com
PRIORITY:5
SEQUENCE:1
CATEGORIES:SPORT
DTSTAMP:20260422T034941
BEGIN:VALARM
ACTION:DISPLAY
TRIGGER:-PT2H
END:VALARM
END:VEVENT
BEGIN:VEVENT
CLASS:PUBLIC
DTSTART:20231029T133000Z
DURATION:PT2H30M
STATUS:CONFIRMED
SUMMARY:Schovelkoten Münster 4 vs. Kickerkönige
DESCRIPTION:Verbandsliga B (5. Spieltag)\nErgebnis: 5:3 (12:9)
LOCATION:Vereinsheim Werne, An der Wiebecke 11, 59368 Werne
UID:SM-B11796@nwtfv.com
PRIORITY:5
SEQUENCE:1
CATEGORIES:SPORT
DTSTAMP:20260422T034941
BEGIN:VALARM
ACTION:DISPLAY
TRIGGER:-PT2H
END:VALARM
END:VEVENT
BEGIN:VEVENT
CLASS:PUBLIC
DTSTART:20231029T160000Z
DURATION:PT2H30M
STATUS:CONFIRMED
SUMMARY:Schovelkoten Münster 4 vs. Schovelkoten Münster 3
DESCRIPTION:Verbandsliga B (5. Spieltag)\nErgebnis: 4:4 (10:9)
LOCATION:Vereinsheim Werne, An der Wiebecke 11, 59368 Werne
UID:SM-B11800@nwtfv.com
PRIORITY:5
SEQUENCE:1
CATEGORIES:SPORT
DTSTAMP:20260422T034941
BEGIN:VALARM
ACTION:DISPLAY
TRIGGER:-PT2H
END:VALARM
END:VEVENT
BEGIN:VEVENT
CLASS:PUBLIC
DTSTART:20231105T110000Z
DURATION:PT2H30M
STATUS:CONFIRMED
SUMMARY:Schovelkoten Münster 4 vs. Arminia Bielefeld 2
DESCRIPTION:Verbandsliga B (6. Spieltag)\nErgebnis: 2:6 (6:13)
LOCATION:Vereinsheim DSC Arminia Bielefeld, Meller Str. 2, 33613 Bielefeld
UID:SM-B11804@nwtfv.com
PRIORITY:5
SEQUENCE:1
CATEGORIES:SPORT
DTSTAMP:20260422T034941
BEGIN:VALARM
ACTION:DISPLAY
TRIGGER:-PT2H
END:VALARM
END:VEVENT
BEGIN:VEVENT
CLASS:PUBLIC
DTSTART:20231105T133000Z
DURATION:PT2H30M
STATUS:CONFIRMED
SUMMARY:Schovelkoten Münster 4 vs. TFV Piranhas Bochum 1
DESCRIPTION:Verbandsliga B (6. Spieltag)\nErgebnis: 2:6 (9:13)
LOCATION:Vereinsheim DSC Arminia Bielefeld, Meller Str. 2, 33613 Bielefeld
UID:SM-B11813@nwtfv.com
PRIORITY:5
SEQUENCE:1
CATEGORIES:SPORT
DTSTAMP:20260422T034941
BEGIN:VALARM
ACTION:DISPLAY
TRIGGER:-PT2H
END:VALARM
END:VEVENT
BEGIN:VEVENT
CLASS:PUBLIC
DTSTART:20231105T160000Z
DURATION:PT2H30M
STATUS:CONFIRMED
SUMMARY:Schovelkoten Münster 4 vs. TFC Paderwahn 3
DESCRIPTION:Verbandsliga B (6. Spieltag)\nErgebnis: 3:5 (8:11)
LOCATION:Vereinsheim DSC Arminia Bielefeld, Meller Str. 2, 33613 Bielefeld
UID:SM-B11815@nwtfv.com
PRIORITY:5
SEQUENCE:1
CATEGORIES:SPORT
DTSTAMP:20260422T034941
BEGIN:VALARM
ACTION:DISPLAY
TRIGGER:-PT2H
END:VALARM
END:VEVENT
END:VCALENDAR
