BEGIN:VCALENDAR
VERSION:2.0
PRODID:PHP
METHOD:REQUEST
X-ORIGINAL-URL:http://nwtfv.com/nrw-tischfussball-kicker-liga/nrw-tischfussball-kickern-verbandsliga?task=team_begegnungen_ical&id=3859
X-WR-CALNAME;VALUE=TEXT:TFV Piranhas Bochum 1
BEGIN:VEVENT
CLASS:PUBLIC
DTSTART:20230402T100000Z
DURATION:PT2H30M
STATUS:CONFIRMED
SUMMARY:Rubberduck Werne vs. TFV Piranhas Bochum 1
DESCRIPTION:Verbandsliga B (1. Spieltag)\nErgebnis: 2:6 (7:13)
LOCATION:Vereinsheim DSC Arminia Bielefeld, Meller Str. 2, 33613 Bielefeld
UID:SM-B11733@nwtfv.com
PRIORITY:5
SEQUENCE:1
CATEGORIES:SPORT
DTSTAMP:20260422T045637
BEGIN:VALARM
ACTION:DISPLAY
TRIGGER:-PT2H
END:VALARM
END:VEVENT
BEGIN:VEVENT
CLASS:PUBLIC
DTSTART:20230402T123000Z
DURATION:PT2H30M
STATUS:CONFIRMED
SUMMARY:TFV Piranhas Bochum 1 vs. Schovelkoten Münster 3
DESCRIPTION:Verbandsliga B (1. Spieltag)\nErgebnis: 5:3 (13:7)
LOCATION:Vereinsheim DSC Arminia Bielefeld, Meller Str. 2, 33613 Bielefeld
UID:SM-B11738@nwtfv.com
PRIORITY:5
SEQUENCE:1
CATEGORIES:SPORT
DTSTAMP:20260422T045637
BEGIN:VALARM
ACTION:DISPLAY
TRIGGER:-PT2H
END:VALARM
END:VEVENT
BEGIN:VEVENT
CLASS:PUBLIC
DTSTART:20230402T150000Z
DURATION:PT2H30M
STATUS:CONFIRMED
SUMMARY:TFV Piranhas Bochum 1 vs. Kickerkönige
DESCRIPTION:Verbandsliga B (1. Spieltag)\nErgebnis: 2:6 (8:12)
LOCATION:Vereinsheim DSC Arminia Bielefeld, Meller Str. 2, 33613 Bielefeld
UID:SM-B11743@nwtfv.com
PRIORITY:5
SEQUENCE:1
CATEGORIES:SPORT
DTSTAMP:20260422T045637
BEGIN:VALARM
ACTION:DISPLAY
TRIGGER:-PT2H
END:VALARM
END:VEVENT
BEGIN:VEVENT
CLASS:PUBLIC
DTSTART:20230416T100000Z
DURATION:PT2H30M
STATUS:CONFIRMED
SUMMARY:TFV Piranhas Bochum 1 vs. KKC Haltern am See
DESCRIPTION:Verbandsliga B (2. Spieltag)\nErgebnis: 3:5 (7:11)
UID:SM-B11748@nwtfv.com
PRIORITY:5
SEQUENCE:1
CATEGORIES:SPORT
DTSTAMP:20260422T045637
BEGIN:VALARM
ACTION:DISPLAY
TRIGGER:-PT2H
END:VALARM
END:VEVENT
BEGIN:VEVENT
CLASS:PUBLIC
DTSTART:20230416T123000Z
DURATION:PT2H30M
STATUS:CONFIRMED
SUMMARY:TFV Piranhas Bochum 1 vs. Kickerfreunde Oberhausen 1
DESCRIPTION:Verbandsliga B (2. Spieltag)\nErgebnis: 3:5 (7:11)
UID:SM-B11753@nwtfv.com
PRIORITY:5
SEQUENCE:1
CATEGORIES:SPORT
DTSTAMP:20260422T045637
BEGIN:VALARM
ACTION:DISPLAY
TRIGGER:-PT2H
END:VALARM
END:VEVENT
BEGIN:VEVENT
CLASS:PUBLIC
DTSTART:20230416T150000Z
DURATION:PT2H30M
STATUS:CONFIRMED
SUMMARY:TFC Paderwahn 4 vs. TFV Piranhas Bochum 1
DESCRIPTION:Verbandsliga B (2. Spieltag)\nErgebnis: 1:7 (2:14)
LOCATION:Beketalhalle, Alte Amtsstraße 25, 33100 Paderborn
UID:SM-B11757@nwtfv.com
PRIORITY:5
SEQUENCE:1
CATEGORIES:SPORT
DTSTAMP:20260422T045637
BEGIN:VALARM
ACTION:DISPLAY
TRIGGER:-PT2H
END:VALARM
END:VEVENT
BEGIN:VEVENT
CLASS:PUBLIC
DTSTART:20230813T100000Z
DURATION:PT2H30M
STATUS:CONFIRMED
SUMMARY:TFC Paderwahn 3 vs. TFV Piranhas Bochum 1
DESCRIPTION:Verbandsliga B (3. Spieltag)\nErgebnis: 5:3 (11:8)
LOCATION:Beketalhalle, Alte Amtsstraße 25, 33100 Paderborn
UID:SM-B11760@nwtfv.com
PRIORITY:5
SEQUENCE:1
CATEGORIES:SPORT
DTSTAMP:20260422T045637
BEGIN:VALARM
ACTION:DISPLAY
TRIGGER:-PT2H
END:VALARM
END:VEVENT
BEGIN:VEVENT
CLASS:PUBLIC
DTSTART:20230813T123000Z
DURATION:PT2H30M
STATUS:CONFIRMED
SUMMARY:TFV Piranhas Bochum 1 vs. Schovelkoten Münster 4
DESCRIPTION:Verbandsliga B (3. Spieltag)\nErgebnis: 3:5 (7:12)
LOCATION:Beketalhalle, Alte Amtsstraße 25, 33100 Paderborn
UID:SM-B11768@nwtfv.com
PRIORITY:5
SEQUENCE:1
CATEGORIES:SPORT
DTSTAMP:20260422T045637
BEGIN:VALARM
ACTION:DISPLAY
TRIGGER:-PT2H
END:VALARM
END:VEVENT
BEGIN:VEVENT
CLASS:PUBLIC
DTSTART:20230813T150000Z
DURATION:PT2H30M
STATUS:CONFIRMED
SUMMARY:TFV Piranhas Bochum 1 vs. Arminia Bielefeld 2
DESCRIPTION:Verbandsliga B (3. Spieltag)\nErgebnis: 1:7 (4:15)
LOCATION:Beketalhalle, Alte Amtsstraße 25, 33100 Paderborn
UID:SM-B11773@nwtfv.com
PRIORITY:5
SEQUENCE:1
CATEGORIES:SPORT
DTSTAMP:20260422T045637
BEGIN:VALARM
ACTION:DISPLAY
TRIGGER:-PT2H
END:VALARM
END:VEVENT
BEGIN:VEVENT
CLASS:PUBLIC
DTSTART:20230924T100000Z
DURATION:PT2H30M
STATUS:CONFIRMED
SUMMARY:TFV Piranhas Bochum 1 vs. Rubberduck Werne
DESCRIPTION:Verbandsliga B (4. Spieltag)\nErgebnis: 8:0 (16:0)
LOCATION:Kölner Kickerfabrik, Kartäuserwall 55, 50677 Köln
UID:SM-B11778@nwtfv.com
PRIORITY:5
SEQUENCE:1
CATEGORIES:SPORT
DTSTAMP:20260422T045637
BEGIN:VALARM
ACTION:DISPLAY
TRIGGER:-PT2H
END:VALARM
END:VEVENT
BEGIN:VEVENT
CLASS:PUBLIC
DTSTART:20230924T123000Z
DURATION:PT2H30M
STATUS:CONFIRMED
SUMMARY:Schovelkoten Münster 3 vs. TFV Piranhas Bochum 1
DESCRIPTION:Verbandsliga B (4. Spieltag)\nErgebnis: 7:1 (14:7)
LOCATION:Kölner Kickerfabrik, Kartäuserwall 55, 50677 Köln
UID:SM-B11783@nwtfv.com
PRIORITY:5
SEQUENCE:1
CATEGORIES:SPORT
DTSTAMP:20260422T045637
BEGIN:VALARM
ACTION:DISPLAY
TRIGGER:-PT2H
END:VALARM
END:VEVENT
BEGIN:VEVENT
CLASS:PUBLIC
DTSTART:20230924T150000Z
DURATION:PT2H30M
STATUS:CONFIRMED
SUMMARY:Kickerkönige vs. TFV Piranhas Bochum 1
DESCRIPTION:Verbandsliga B (4. Spieltag)\nErgebnis: 7:1 (15:5)
LOCATION:Kölner Kickerfabrik, Kartäuserwall 55, 50677 Köln
UID:SM-B11788@nwtfv.com
PRIORITY:5
SEQUENCE:1
CATEGORIES:SPORT
DTSTAMP:20260422T045637
BEGIN:VALARM
ACTION:DISPLAY
TRIGGER:-PT2H
END:VALARM
END:VEVENT
BEGIN:VEVENT
CLASS:PUBLIC
DTSTART:20231029T110000Z
DURATION:PT2H30M
STATUS:CONFIRMED
SUMMARY:KKC Haltern am See vs. TFV Piranhas Bochum 1
DESCRIPTION:Verbandsliga B (5. Spieltag)\nErgebnis: 2:6 (7:13)
LOCATION:Vereinsheim Oberhausen, Bürgerstraße 15, 46049 Oberhausen
UID:SM-B11793@nwtfv.com
PRIORITY:5
SEQUENCE:1
CATEGORIES:SPORT
DTSTAMP:20260422T045637
BEGIN:VALARM
ACTION:DISPLAY
TRIGGER:-PT2H
END:VALARM
END:VEVENT
BEGIN:VEVENT
CLASS:PUBLIC
DTSTART:20231029T133000Z
DURATION:PT2H30M
STATUS:CONFIRMED
SUMMARY:Kickerfreunde Oberhausen 1 vs. TFV Piranhas Bochum 1
DESCRIPTION:Verbandsliga B (5. Spieltag)\nErgebnis: 6:2 (13:8)
LOCATION:Vereinsheim Oberhausen, Bürgerstraße 15, 46049 Oberhausen
UID:SM-B11798@nwtfv.com
PRIORITY:5
SEQUENCE:1
CATEGORIES:SPORT
DTSTAMP:20260422T045637
BEGIN:VALARM
ACTION:DISPLAY
TRIGGER:-PT2H
END:VALARM
END:VEVENT
BEGIN:VEVENT
CLASS:PUBLIC
DTSTART:20231029T160000Z
DURATION:PT2H30M
STATUS:CONFIRMED
SUMMARY:TFV Piranhas Bochum 1 vs. TFC Paderwahn 4
DESCRIPTION:Verbandsliga B (5. Spieltag)\nErgebnis: 6:2 (12:6)
LOCATION:Vereinsheim Oberhausen, Bürgerstraße 15, 46049 Oberhausen
UID:SM-B11802@nwtfv.com
PRIORITY:5
SEQUENCE:1
CATEGORIES:SPORT
DTSTAMP:20260422T045637
BEGIN:VALARM
ACTION:DISPLAY
TRIGGER:-PT2H
END:VALARM
END:VEVENT
BEGIN:VEVENT
CLASS:PUBLIC
DTSTART:20231105T110000Z
DURATION:PT2H30M
STATUS:CONFIRMED
SUMMARY:TFV Piranhas Bochum 1 vs. TFC Paderwahn 3
DESCRIPTION:Verbandsliga B (6. Spieltag)\nErgebnis: 3:5 (8:10)
LOCATION:Vereinsheim DSC Arminia Bielefeld, Meller Str. 2, 33613 Bielefeld
UID:SM-B11805@nwtfv.com
PRIORITY:5
SEQUENCE:1
CATEGORIES:SPORT
DTSTAMP:20260422T045637
BEGIN:VALARM
ACTION:DISPLAY
TRIGGER:-PT2H
END:VALARM
END:VEVENT
BEGIN:VEVENT
CLASS:PUBLIC
DTSTART:20231105T133000Z
DURATION:PT2H30M
STATUS:CONFIRMED
SUMMARY:Schovelkoten Münster 4 vs. TFV Piranhas Bochum 1
DESCRIPTION:Verbandsliga B (6. Spieltag)\nErgebnis: 2:6 (9:13)
LOCATION:Vereinsheim DSC Arminia Bielefeld, Meller Str. 2, 33613 Bielefeld
UID:SM-B11813@nwtfv.com
PRIORITY:5
SEQUENCE:1
CATEGORIES:SPORT
DTSTAMP:20260422T045637
BEGIN:VALARM
ACTION:DISPLAY
TRIGGER:-PT2H
END:VALARM
END:VEVENT
BEGIN:VEVENT
CLASS:PUBLIC
DTSTART:20231105T160000Z
DURATION:PT2H30M
STATUS:CONFIRMED
SUMMARY:Arminia Bielefeld 2 vs. TFV Piranhas Bochum 1
DESCRIPTION:Verbandsliga B (6. Spieltag)\nErgebnis: 3:5 (9:10)
LOCATION:Vereinsheim DSC Arminia Bielefeld, Meller Str. 2, 33613 Bielefeld
UID:SM-B11818@nwtfv.com
PRIORITY:5
SEQUENCE:1
CATEGORIES:SPORT
DTSTAMP:20260422T045637
BEGIN:VALARM
ACTION:DISPLAY
TRIGGER:-PT2H
END:VALARM
END:VEVENT
END:VCALENDAR
