BEGIN:VCALENDAR
VERSION:2.0
PRODID:PHP
METHOD:REQUEST
X-ORIGINAL-URL:http://nwtfv.com/nrw-tischfussball-kicker-liga/nrw-tischfussball-kickern-verbandsliga?task=team_begegnungen_ical&id=3853
X-WR-CALNAME;VALUE=TEXT:KKC Haltern am See
BEGIN:VEVENT
CLASS:PUBLIC
DTSTART:20230402T100000Z
DURATION:PT2H30M
STATUS:CONFIRMED
SUMMARY:KKC Haltern am See vs. TFC Paderwahn 4
DESCRIPTION:Verbandsliga B (1. Spieltag)\nErgebnis: 5:3 (12:10)
LOCATION:Vereinsheim Oberhausen, Bürgerstraße 15, 46049 Oberhausen
UID:SM-B11732@nwtfv.com
PRIORITY:5
SEQUENCE:1
CATEGORIES:SPORT
DTSTAMP:20260422T045006
END:VEVENT
BEGIN:VEVENT
CLASS:PUBLIC
DTSTART:20230402T123000Z
DURATION:PT2H30M
STATUS:CONFIRMED
SUMMARY:KKC Haltern am See vs. Schovelkoten Münster 4
DESCRIPTION:Verbandsliga B (1. Spieltag)\nErgebnis: 2:6 (6:12)
LOCATION:Vereinsheim Oberhausen, Bürgerstraße 15, 46049 Oberhausen
UID:SM-B11736@nwtfv.com
PRIORITY:5
SEQUENCE:1
CATEGORIES:SPORT
DTSTAMP:20260422T045006
END:VEVENT
BEGIN:VEVENT
CLASS:PUBLIC
DTSTART:20230402T150000Z
DURATION:PT2H30M
STATUS:CONFIRMED
SUMMARY:Kickerfreunde Oberhausen 1 vs. KKC Haltern am See
DESCRIPTION:Verbandsliga B (1. Spieltag)\nErgebnis: 4:4 (10:8)
LOCATION:Vereinsheim Oberhausen, Bürgerstraße 15, 46049 Oberhausen
UID:SM-B11740@nwtfv.com
PRIORITY:5
SEQUENCE:1
CATEGORIES:SPORT
DTSTAMP:20260422T045006
END:VEVENT
BEGIN:VEVENT
CLASS:PUBLIC
DTSTART:20230416T100000Z
DURATION:PT2H30M
STATUS:CONFIRMED
SUMMARY:TFV Piranhas Bochum 1 vs. KKC Haltern am See
DESCRIPTION:Verbandsliga B (2. Spieltag)\nErgebnis: 3:5 (7:11)
UID:SM-B11748@nwtfv.com
PRIORITY:5
SEQUENCE:1
CATEGORIES:SPORT
DTSTAMP:20260422T045006
END:VEVENT
BEGIN:VEVENT
CLASS:PUBLIC
DTSTART:20230416T123000Z
DURATION:PT2H30M
STATUS:CONFIRMED
SUMMARY:TFC Paderwahn 3 vs. KKC Haltern am See
DESCRIPTION:Verbandsliga B (2. Spieltag)\nErgebnis: 2:6 (6:13)
LOCATION:Beketalhalle, Alte Amtsstraße 25, 33100 Paderborn
UID:SM-B11749@nwtfv.com
PRIORITY:5
SEQUENCE:1
CATEGORIES:SPORT
DTSTAMP:20260422T045006
END:VEVENT
BEGIN:VEVENT
CLASS:PUBLIC
DTSTART:20230416T150000Z
DURATION:PT2H30M
STATUS:CONFIRMED
SUMMARY:Arminia Bielefeld 2 vs. KKC Haltern am See
DESCRIPTION:Verbandsliga B (2. Spieltag)\nErgebnis: 6:2 (14:7)
LOCATION:Vereinsheim DSC Arminia Bielefeld, Meller Str. 2, 33613 Bielefeld
UID:SM-B11754@nwtfv.com
PRIORITY:5
SEQUENCE:1
CATEGORIES:SPORT
DTSTAMP:20260422T045006
END:VEVENT
BEGIN:VEVENT
CLASS:PUBLIC
DTSTART:20230813T100000Z
DURATION:PT2H30M
STATUS:CONFIRMED
SUMMARY:Kickerkönige vs. KKC Haltern am See
DESCRIPTION:Verbandsliga B (3. Spieltag)\nErgebnis: 5:3 (13:10)
LOCATION:Vereinsheim Münster, Lütkenbecker Weg 25, 48155 Münster
UID:SM-B11762@nwtfv.com
PRIORITY:5
SEQUENCE:1
CATEGORIES:SPORT
DTSTAMP:20260422T045006
END:VEVENT
BEGIN:VEVENT
CLASS:PUBLIC
DTSTART:20230813T123000Z
DURATION:PT2H30M
STATUS:CONFIRMED
SUMMARY:Schovelkoten Münster 3 vs. KKC Haltern am See
DESCRIPTION:Verbandsliga B (3. Spieltag)\nErgebnis: 4:4 (12:8)
LOCATION:Vereinsheim Münster, Lütkenbecker Weg 25, 48155 Münster
UID:SM-B11764@nwtfv.com
PRIORITY:5
SEQUENCE:1
CATEGORIES:SPORT
DTSTAMP:20260422T045006
END:VEVENT
BEGIN:VEVENT
CLASS:PUBLIC
DTSTART:20230813T150000Z
DURATION:PT2H30M
STATUS:CONFIRMED
SUMMARY:Rubberduck Werne vs. KKC Haltern am See
DESCRIPTION:Verbandsliga B (3. Spieltag)\nErgebnis: 6:2 (13:8)
LOCATION:Vereinsheim Münster, Lütkenbecker Weg 25, 48155 Münster
UID:SM-B11772@nwtfv.com
PRIORITY:5
SEQUENCE:1
CATEGORIES:SPORT
DTSTAMP:20260422T045006
END:VEVENT
BEGIN:VEVENT
CLASS:PUBLIC
DTSTART:20230924T100000Z
DURATION:PT2H30M
STATUS:CONFIRMED
SUMMARY:TFC Paderwahn 4 vs. KKC Haltern am See
DESCRIPTION:Verbandsliga B (4. Spieltag)\nErgebnis: 3:5 (9:12)
LOCATION:Beketalhalle, Alte Amtsstraße 25, 33100 Paderborn
UID:SM-B11777@nwtfv.com
PRIORITY:5
SEQUENCE:1
CATEGORIES:SPORT
DTSTAMP:20260422T045006
END:VEVENT
BEGIN:VEVENT
CLASS:PUBLIC
DTSTART:20230924T123000Z
DURATION:PT2H30M
STATUS:CONFIRMED
SUMMARY:Schovelkoten Münster 4 vs. KKC Haltern am See
DESCRIPTION:Verbandsliga B (4. Spieltag)\nErgebnis: 4:4 (8:11)
LOCATION:Beketalhalle, Alte Amtsstraße 25, 33100 Paderborn
UID:SM-B11781@nwtfv.com
PRIORITY:5
SEQUENCE:1
CATEGORIES:SPORT
DTSTAMP:20260422T045006
END:VEVENT
BEGIN:VEVENT
CLASS:PUBLIC
DTSTART:20230924T150000Z
DURATION:PT2H30M
STATUS:CONFIRMED
SUMMARY:KKC Haltern am See vs. Kickerfreunde Oberhausen 1
DESCRIPTION:Verbandsliga B (4. Spieltag)\nErgebnis: 5:3 (11:9)
LOCATION:Beketalhalle, Alte Amtsstraße 25, 33100 Paderborn
UID:SM-B11785@nwtfv.com
PRIORITY:5
SEQUENCE:1
CATEGORIES:SPORT
DTSTAMP:20260422T045006
END:VEVENT
BEGIN:VEVENT
CLASS:PUBLIC
DTSTART:20231029T110000Z
DURATION:PT2H30M
STATUS:CONFIRMED
SUMMARY:KKC Haltern am See vs. TFV Piranhas Bochum 1
DESCRIPTION:Verbandsliga B (5. Spieltag)\nErgebnis: 2:6 (7:13)
LOCATION:Vereinsheim Oberhausen, Bürgerstraße 15, 46049 Oberhausen
UID:SM-B11793@nwtfv.com
PRIORITY:5
SEQUENCE:1
CATEGORIES:SPORT
DTSTAMP:20260422T045006
END:VEVENT
BEGIN:VEVENT
CLASS:PUBLIC
DTSTART:20231029T133000Z
DURATION:PT2H30M
STATUS:CONFIRMED
SUMMARY:KKC Haltern am See vs. TFC Paderwahn 3
DESCRIPTION:Verbandsliga B (5. Spieltag)\nErgebnis: 5:3 (13:7)
LOCATION:Vereinsheim Oberhausen, Bürgerstraße 15, 46049 Oberhausen
UID:SM-B11794@nwtfv.com
PRIORITY:5
SEQUENCE:1
CATEGORIES:SPORT
DTSTAMP:20260422T045006
END:VEVENT
BEGIN:VEVENT
CLASS:PUBLIC
DTSTART:20231029T160000Z
DURATION:PT2H30M
STATUS:CONFIRMED
SUMMARY:KKC Haltern am See vs. Arminia Bielefeld 2
DESCRIPTION:Verbandsliga B (5. Spieltag)\nErgebnis: 3:5 (7:11)
LOCATION:Vereinsheim Oberhausen, Bürgerstraße 15, 46049 Oberhausen
UID:SM-B11799@nwtfv.com
PRIORITY:5
SEQUENCE:1
CATEGORIES:SPORT
DTSTAMP:20260422T045006
END:VEVENT
BEGIN:VEVENT
CLASS:PUBLIC
DTSTART:20231105T110000Z
DURATION:PT2H30M
STATUS:CONFIRMED
SUMMARY:KKC Haltern am See vs. Kickerkönige
DESCRIPTION:Verbandsliga B (6. Spieltag)\nErgebnis: 4:4 (11:10)
LOCATION:Alter Schiessstand, Erzbischof-Buddenbrock-Str.3, 45721 Haltern am See-Lipprsmsdorf
UID:SM-B11807@nwtfv.com
PRIORITY:5
SEQUENCE:1
CATEGORIES:SPORT
DTSTAMP:20260422T045006
END:VEVENT
BEGIN:VEVENT
CLASS:PUBLIC
DTSTART:20231105T133000Z
DURATION:PT2H30M
STATUS:CONFIRMED
SUMMARY:KKC Haltern am See vs. Schovelkoten Münster 3
DESCRIPTION:Verbandsliga B (6. Spieltag)\nErgebnis: 3:5 (8:12)
LOCATION:Alter Schiessstand, Erzbischof-Buddenbrock-Str.3, 45721 Haltern am See-Lipprsmsdorf
UID:SM-B11809@nwtfv.com
PRIORITY:5
SEQUENCE:1
CATEGORIES:SPORT
DTSTAMP:20260422T045006
END:VEVENT
BEGIN:VEVENT
CLASS:PUBLIC
DTSTART:20231105T160000Z
DURATION:PT2H30M
STATUS:CONFIRMED
SUMMARY:KKC Haltern am See vs. Rubberduck Werne
DESCRIPTION:Verbandsliga B (6. Spieltag)\nErgebnis: 1:7 (6:15)
LOCATION:Alter Schiessstand, Erzbischof-Buddenbrock-Str.3, 45721 Haltern am See-Lipprsmsdorf
UID:SM-B11817@nwtfv.com
PRIORITY:5
SEQUENCE:1
CATEGORIES:SPORT
DTSTAMP:20260422T045006
END:VEVENT
END:VCALENDAR
