BEGIN:VCALENDAR
VERSION:2.0
PRODID:PHP
METHOD:REQUEST
X-ORIGINAL-URL:http://nwtfv.com/tischfussball-vereine-nrw-nwtfv?task=verein_begegnungen_ical&id=510
X-WR-CALNAME;VALUE=TEXT:Kickerclub Gronau e.V.
BEGIN:VEVENT
CLASS:PUBLIC
DTSTART:20250504T100000Z
DURATION:PT2H30M
STATUS:CONFIRMED
SUMMARY:TV-Westfalia 07 Epe e.V. vs. Foosvolk Dortmund 3
DESCRIPTION:Bezirksliga B (2. Spieltag)\nErgebnis: 3:5 (10:10)
LOCATION:KickerEck, Sendstr. 100-102, 44143 Dortmund
UID:SM-B14113@nwtfv.com
PRIORITY:5
SEQUENCE:1
CATEGORIES:SPORT
DTSTAMP:20260420T152601
BEGIN:VALARM
ACTION:DISPLAY
TRIGGER:-PT2H
END:VALARM
END:VEVENT
BEGIN:VEVENT
CLASS:PUBLIC
DTSTART:20250504T123000Z
DURATION:PT2H30M
STATUS:CONFIRMED
SUMMARY:TV-Westfalia 07 Epe e.V. vs. FC Vreden 1
DESCRIPTION:Bezirksliga B (2. Spieltag)\nErgebnis: 4:4 (8:11)
LOCATION:KickerEck, Sendstr. 100-102, 44143 Dortmund
UID:SM-B14118@nwtfv.com
PRIORITY:5
SEQUENCE:1
CATEGORIES:SPORT
DTSTAMP:20260420T152601
BEGIN:VALARM
ACTION:DISPLAY
TRIGGER:-PT2H
END:VALARM
END:VEVENT
BEGIN:VEVENT
CLASS:PUBLIC
DTSTART:20250504T150000Z
DURATION:PT2H30M
STATUS:CONFIRMED
SUMMARY:TSV Viktoria vs. TV-Westfalia 07 Epe e.V.
DESCRIPTION:Bezirksliga B (2. Spieltag)\nErgebnis: 5:3 (13:7)
LOCATION:KickerEck, Sendstr. 100-102, 44143 Dortmund
UID:SM-B14122@nwtfv.com
PRIORITY:5
SEQUENCE:1
CATEGORIES:SPORT
DTSTAMP:20260420T152601
BEGIN:VALARM
ACTION:DISPLAY
TRIGGER:-PT2H
END:VALARM
END:VEVENT
BEGIN:VEVENT
CLASS:PUBLIC
DTSTART:20250601T100000Z
DURATION:PT2H30M
STATUS:CONFIRMED
SUMMARY:SC Templebar vs. TV-Westfalia 07 Epe e.V.
DESCRIPTION:Bezirksliga B (3. Spieltag)\nErgebnis: 6:2 (13:5)
LOCATION:Vereinsheim Münster, Lütkenbecker Weg 25, 48155 Münster
UID:SM-B14125@nwtfv.com
PRIORITY:5
SEQUENCE:1
CATEGORIES:SPORT
DTSTAMP:20260420T152601
BEGIN:VALARM
ACTION:DISPLAY
TRIGGER:-PT2H
END:VALARM
END:VEVENT
BEGIN:VEVENT
CLASS:PUBLIC
DTSTART:20250601T123000Z
DURATION:PT2H30M
STATUS:CONFIRMED
SUMMARY:TV-Westfalia 07 Epe e.V. vs. Schovelkoten Münster 6
DESCRIPTION:Bezirksliga B (3. Spieltag)\nErgebnis: 1:7 (4:15)
LOCATION:Vereinsheim Münster, Lütkenbecker Weg 25, 48155 Münster
UID:SM-B14133@nwtfv.com
PRIORITY:5
SEQUENCE:1
CATEGORIES:SPORT
DTSTAMP:20260420T152601
BEGIN:VALARM
ACTION:DISPLAY
TRIGGER:-PT2H
END:VALARM
END:VEVENT
BEGIN:VEVENT
CLASS:PUBLIC
DTSTART:20250601T150000Z
DURATION:PT2H30M
STATUS:CONFIRMED
SUMMARY:TV-Westfalia 07 Epe e.V. vs. Schovelkoten Münster 7
DESCRIPTION:Bezirksliga B (3. Spieltag)\nErgebnis: 4:4 (9:9)
LOCATION:Vereinsheim Münster, Lütkenbecker Weg 25, 48155 Münster
UID:SM-B14138@nwtfv.com
PRIORITY:5
SEQUENCE:1
CATEGORIES:SPORT
DTSTAMP:20260420T152601
BEGIN:VALARM
ACTION:DISPLAY
TRIGGER:-PT2H
END:VALARM
END:VEVENT
BEGIN:VEVENT
CLASS:PUBLIC
DTSTART:20250914T100000Z
DURATION:PT2H30M
STATUS:CONFIRMED
SUMMARY:TV-Westfalia 07 Epe e.V. vs. Kickerfreunde Oberhausen 2
DESCRIPTION:Bezirksliga B (4. Spieltag)\nErgebnis: 3:5 (7:11)
LOCATION:KickerEck, Sendstr. 100-102, 44143 Dortmund
UID:SM-B14143@nwtfv.com
PRIORITY:5
SEQUENCE:1
CATEGORIES:SPORT
DTSTAMP:20260420T152601
BEGIN:VALARM
ACTION:DISPLAY
TRIGGER:-PT2H
END:VALARM
END:VEVENT
BEGIN:VEVENT
CLASS:PUBLIC
DTSTART:20250914T123000Z
DURATION:PT2H30M
STATUS:CONFIRMED
SUMMARY:KKC Haltern am See 2 vs. TV-Westfalia 07 Epe e.V.
DESCRIPTION:Bezirksliga B (4. Spieltag)\nErgebnis: 4:4 (10:10)
LOCATION:KickerEck, Sendstr. 100-102, 44143 Dortmund
UID:SM-B14148@nwtfv.com
PRIORITY:5
SEQUENCE:1
CATEGORIES:SPORT
DTSTAMP:20260420T152601
BEGIN:VALARM
ACTION:DISPLAY
TRIGGER:-PT2H
END:VALARM
END:VEVENT
BEGIN:VEVENT
CLASS:PUBLIC
DTSTART:20250914T150000Z
DURATION:PT2H30M
STATUS:CONFIRMED
SUMMARY:Foosvolk Dortmund 2 vs. TV-Westfalia 07 Epe e.V.
DESCRIPTION:Bezirksliga B (4. Spieltag)\nErgebnis: 5:3 (10:8)
LOCATION:KickerEck, Sendstr. 100-102, 44143 Dortmund
UID:SM-B14153@nwtfv.com
PRIORITY:5
SEQUENCE:1
CATEGORIES:SPORT
DTSTAMP:20260420T152601
BEGIN:VALARM
ACTION:DISPLAY
TRIGGER:-PT2H
END:VALARM
END:VEVENT
BEGIN:VEVENT
CLASS:PUBLIC
DTSTART:20251102T110000Z
DURATION:PT2H30M
STATUS:CONFIRMED
SUMMARY:Foosvolk Dortmund 3 vs. TV-Westfalia 07 Epe e.V.
DESCRIPTION:Bezirksliga B (5. Spieltag)\nErgebnis: 3:5 (6:11)
LOCATION:TSV Viktoria, Wissollstraße 13, 45478 Mülheim an der Ruhr
UID:SM-B14158@nwtfv.com
PRIORITY:5
SEQUENCE:1
CATEGORIES:SPORT
DTSTAMP:20260420T152601
BEGIN:VALARM
ACTION:DISPLAY
TRIGGER:-PT2H
END:VALARM
END:VEVENT
BEGIN:VEVENT
CLASS:PUBLIC
DTSTART:20251102T133000Z
DURATION:PT2H30M
STATUS:CONFIRMED
SUMMARY:FC Vreden 1 vs. TV-Westfalia 07 Epe e.V.
DESCRIPTION:Bezirksliga B (5. Spieltag)\nErgebnis: 6:2 (13:5)
LOCATION:TSV Viktoria, Wissollstraße 13, 45478 Mülheim an der Ruhr
UID:SM-B14163@nwtfv.com
PRIORITY:5
SEQUENCE:1
CATEGORIES:SPORT
DTSTAMP:20260420T152601
BEGIN:VALARM
ACTION:DISPLAY
TRIGGER:-PT2H
END:VALARM
END:VEVENT
BEGIN:VEVENT
CLASS:PUBLIC
DTSTART:20251102T160000Z
DURATION:PT2H30M
STATUS:CONFIRMED
SUMMARY:TV-Westfalia 07 Epe e.V. vs. TSV Viktoria
DESCRIPTION:Bezirksliga B (5. Spieltag)\nErgebnis: 1:7 (3:15)
LOCATION:TSV Viktoria, Wissollstraße 13, 45478 Mülheim an der Ruhr
UID:SM-B14167@nwtfv.com
PRIORITY:5
SEQUENCE:1
CATEGORIES:SPORT
DTSTAMP:20260420T152601
BEGIN:VALARM
ACTION:DISPLAY
TRIGGER:-PT2H
END:VALARM
END:VEVENT
BEGIN:VEVENT
CLASS:PUBLIC
DTSTART:20251207T110000Z
DURATION:PT2H30M
STATUS:CONFIRMED
SUMMARY:TV-Westfalia 07 Epe e.V. vs. SC Templebar
DESCRIPTION:Bezirksliga B (6. Spieltag)\nErgebnis: 2:6 (6:12)
LOCATION:Vereinsheim Oberhausen, Bürgerstraße 15, 46049 Oberhausen
UID:SM-B14170@nwtfv.com
PRIORITY:5
SEQUENCE:1
CATEGORIES:SPORT
DTSTAMP:20260420T152601
BEGIN:VALARM
ACTION:DISPLAY
TRIGGER:-PT2H
END:VALARM
END:VEVENT
BEGIN:VEVENT
CLASS:PUBLIC
DTSTART:20251207T133000Z
DURATION:PT2H30M
STATUS:CONFIRMED
SUMMARY:Schovelkoten Münster 6 vs. TV-Westfalia 07 Epe e.V.
DESCRIPTION:Bezirksliga B (6. Spieltag)\nErgebnis: 7:1 (15:4)
LOCATION:Vereinsheim Oberhausen, Bürgerstraße 15, 46049 Oberhausen
UID:SM-B14178@nwtfv.com
PRIORITY:5
SEQUENCE:1
CATEGORIES:SPORT
DTSTAMP:20260420T152601
BEGIN:VALARM
ACTION:DISPLAY
TRIGGER:-PT2H
END:VALARM
END:VEVENT
BEGIN:VEVENT
CLASS:PUBLIC
DTSTART:20251207T160000Z
DURATION:PT2H30M
STATUS:CONFIRMED
SUMMARY:Schovelkoten Münster 7 vs. TV-Westfalia 07 Epe e.V.
DESCRIPTION:Bezirksliga B (6. Spieltag)\nErgebnis: 1:7 (3:14)
LOCATION:Vereinsheim Oberhausen, Bürgerstraße 15, 46049 Oberhausen
UID:SM-B14183@nwtfv.com
PRIORITY:5
SEQUENCE:1
CATEGORIES:SPORT
DTSTAMP:20260420T152601
BEGIN:VALARM
ACTION:DISPLAY
TRIGGER:-PT2H
END:VALARM
END:VEVENT
BEGIN:VEVENT
CLASS:PUBLIC
DTSTART:20260125T110000Z
DURATION:PT2H30M
STATUS:CONFIRMED
SUMMARY:Kickerclub Gronau 1 vs. 1. KC Rees 2
DESCRIPTION:Kreisliga B (1. Spieltag)\nErgebnis: 4:4 (10:9)
LOCATION:Vereinsheim 1. KC Rees e.V., Hauptstraße 15a, 46459 Rees-Millingen
UID:SM-B14579@nwtfv.com
PRIORITY:5
SEQUENCE:1
CATEGORIES:SPORT
DTSTAMP:20260420T152601
BEGIN:VALARM
ACTION:DISPLAY
TRIGGER:-PT2H
END:VALARM
END:VEVENT
BEGIN:VEVENT
CLASS:PUBLIC
DTSTART:20260125T133000Z
DURATION:PT2H30M
STATUS:CONFIRMED
SUMMARY:1. TFC Kleve 2 vs. Kickerclub Gronau 1
DESCRIPTION:Kreisliga B (1. Spieltag)\nErgebnis: 2:6 (7:12)
LOCATION:Vereinsheim 1. KC Rees e.V., Hauptstraße 15a, 46459 Rees-Millingen
UID:SM-B14582@nwtfv.com
PRIORITY:5
SEQUENCE:1
CATEGORIES:SPORT
DTSTAMP:20260420T152601
BEGIN:VALARM
ACTION:DISPLAY
TRIGGER:-PT2H
END:VALARM
END:VEVENT
BEGIN:VEVENT
CLASS:PUBLIC
DTSTART:20260125T160000Z
DURATION:PT2H30M
STATUS:CONFIRMED
SUMMARY:Union Wessum vs. Kickerclub Gronau 1
DESCRIPTION:Kreisliga B (1. Spieltag)\nErgebnis: 5:3 (10:7)
LOCATION:Vereinsheim 1. KC Rees e.V., Hauptstraße 15a, 46459 Rees-Millingen
UID:SM-B14587@nwtfv.com
PRIORITY:5
SEQUENCE:1
CATEGORIES:SPORT
DTSTAMP:20260420T152601
BEGIN:VALARM
ACTION:DISPLAY
TRIGGER:-PT2H
END:VALARM
END:VEVENT
BEGIN:VEVENT
CLASS:PUBLIC
DTSTART:20260418T100000Z
DURATION:PT2H30M
STATUS:CONFIRMED
SUMMARY:KKC Haltern am See 3 vs. Kickerclub Gronau 1
DESCRIPTION:Kreisliga B (2. Spieltag)\nErgebnis: 1:7 (3:15)
LOCATION:Alter Schiessstand, Erzbischof-Buddenbrock-Str.3, 45721 Haltern am See-Lipprsmsdorf
UID:SM-B15113@nwtfv.com
PRIORITY:5
SEQUENCE:1
CATEGORIES:SPORT
DTSTAMP:20260420T152601
BEGIN:VALARM
ACTION:DISPLAY
TRIGGER:-PT2H
END:VALARM
END:VEVENT
BEGIN:VEVENT
CLASS:PUBLIC
DTSTART:20260418T123000Z
DURATION:PT2H30M
STATUS:CONFIRMED
SUMMARY:Kickerclub Gronau 1 vs. FC Vreden 3
DESCRIPTION:Kreisliga B (2. Spieltag)\nErgebnis: 8:0 (16:2)
LOCATION:Alter Schiessstand, Erzbischof-Buddenbrock-Str.3, 45721 Haltern am See-Lipprsmsdorf
UID:SM-B15117@nwtfv.com
PRIORITY:5
SEQUENCE:1
CATEGORIES:SPORT
DTSTAMP:20260420T152601
BEGIN:VALARM
ACTION:DISPLAY
TRIGGER:-PT2H
END:VALARM
END:VEVENT
BEGIN:VEVENT
CLASS:PUBLIC
DTSTART:20260517T100000Z
DURATION:PT2H30M
STATUS:CONFIRMED
SUMMARY:Kickerclub Gronau 1 vs. Kickerfreunde Coesfeld 3
DESCRIPTION:Kreisliga B (3. Spieltag)
LOCATION:Kickerclub Gronau, Mühlenmathe 37, 48599 Gronau
UID:SM-B15128@nwtfv.com
PRIORITY:5
SEQUENCE:0
CATEGORIES:SPORT
DTSTAMP:20260420T152601
BEGIN:VALARM
ACTION:DISPLAY
TRIGGER:-PT2H
END:VALARM
END:VEVENT
BEGIN:VEVENT
CLASS:PUBLIC
DTSTART:20260517T123000Z
DURATION:PT2H30M
STATUS:CONFIRMED
SUMMARY:Kickerclub Gronau 1 vs. Schovelkoten Münster 8
DESCRIPTION:Kreisliga B (3. Spieltag)
LOCATION:Kickerclub Gronau, Mühlenmathe 37, 48599 Gronau
UID:SM-B15131@nwtfv.com
PRIORITY:5
SEQUENCE:0
CATEGORIES:SPORT
DTSTAMP:20260420T152601
BEGIN:VALARM
ACTION:DISPLAY
TRIGGER:-PT2H
END:VALARM
END:VEVENT
BEGIN:VEVENT
CLASS:PUBLIC
DTSTART:20260517T150000Z
DURATION:PT2H30M
STATUS:CONFIRMED
SUMMARY:FC Vreden 2 vs. Kickerclub Gronau 1
DESCRIPTION:Kreisliga B (3. Spieltag)
LOCATION:Kickerclub Gronau, Mühlenmathe 37, 48599 Gronau
UID:SM-B15135@nwtfv.com
PRIORITY:5
SEQUENCE:0
CATEGORIES:SPORT
DTSTAMP:20260420T152601
BEGIN:VALARM
ACTION:DISPLAY
TRIGGER:-PT2H
END:VALARM
END:VEVENT
BEGIN:VEVENT
CLASS:PUBLIC
DTSTART:20260621T100000Z
DURATION:PT2H30M
STATUS:CONFIRMED
SUMMARY:1. KC Rees 2 vs. Kickerclub Gronau 1
DESCRIPTION:Kreisliga B (4. Spieltag)
LOCATION:Vereinsheim 1. KC Rees e.V., Hauptstraße 15a, 46459 Rees-Millingen
UID:SM-B15140@nwtfv.com
PRIORITY:5
SEQUENCE:0
CATEGORIES:SPORT
DTSTAMP:20260420T152601
BEGIN:VALARM
ACTION:DISPLAY
TRIGGER:-PT2H
END:VALARM
END:VEVENT
BEGIN:VEVENT
CLASS:PUBLIC
DTSTART:20260621T123000Z
DURATION:PT2H30M
STATUS:CONFIRMED
SUMMARY:Kickerclub Gronau 1 vs. 1. TFC Kleve 2
DESCRIPTION:Kreisliga B (4. Spieltag)
LOCATION:Vereinsheim 1. KC Rees e.V., Hauptstraße 15a, 46459 Rees-Millingen
UID:SM-B15143@nwtfv.com
PRIORITY:5
SEQUENCE:0
CATEGORIES:SPORT
DTSTAMP:20260420T152601
BEGIN:VALARM
ACTION:DISPLAY
TRIGGER:-PT2H
END:VALARM
END:VEVENT
BEGIN:VEVENT
CLASS:PUBLIC
DTSTART:20260621T150000Z
DURATION:PT2H30M
STATUS:CONFIRMED
SUMMARY:Kickerclub Gronau 1 vs. Union Wessum
DESCRIPTION:Kreisliga B (4. Spieltag)
LOCATION:Vereinsheim 1. KC Rees e.V., Hauptstraße 15a, 46459 Rees-Millingen
UID:SM-B15148@nwtfv.com
PRIORITY:5
SEQUENCE:0
CATEGORIES:SPORT
DTSTAMP:20260420T152601
BEGIN:VALARM
ACTION:DISPLAY
TRIGGER:-PT2H
END:VALARM
END:VEVENT
BEGIN:VEVENT
CLASS:PUBLIC
DTSTART:20260906T100000Z
DURATION:PT2H30M
STATUS:CONFIRMED
SUMMARY:FC Vreden 3 vs. Kickerclub Gronau 1
DESCRIPTION:Kreisliga B (5. Spieltag)
LOCATION:Vereinsheim Vreden, Ottensteiner Straße, 48691 Vreden
UID:SM-B15153@nwtfv.com
PRIORITY:5
SEQUENCE:0
CATEGORIES:SPORT
DTSTAMP:20260420T152601
BEGIN:VALARM
ACTION:DISPLAY
TRIGGER:-PT2H
END:VALARM
END:VEVENT
BEGIN:VEVENT
CLASS:PUBLIC
DTSTART:20260906T123000Z
DURATION:PT2H30M
STATUS:CONFIRMED
SUMMARY:Kickerclub Gronau 1 vs. KKC Haltern am See 3
DESCRIPTION:Kreisliga B (5. Spieltag)
LOCATION:Vereinsheim Vreden, Ottensteiner Straße, 48691 Vreden
UID:SM-B15149@nwtfv.com
PRIORITY:5
SEQUENCE:0
CATEGORIES:SPORT
DTSTAMP:20260420T152601
BEGIN:VALARM
ACTION:DISPLAY
TRIGGER:-PT2H
END:VALARM
END:VEVENT
BEGIN:VEVENT
CLASS:PUBLIC
DTSTART:20261011T100000Z
DURATION:PT2H30M
STATUS:CONFIRMED
SUMMARY:Kickerfreunde Coesfeld 3 vs. Kickerclub Gronau 1
DESCRIPTION:Kreisliga B (6. Spieltag)
LOCATION:Vereinsheim Münster, Lütkenbecker Weg 25, 48155 Münster
UID:SM-B15282@nwtfv.com
PRIORITY:5
SEQUENCE:0
CATEGORIES:SPORT
DTSTAMP:20260420T152601
BEGIN:VALARM
ACTION:DISPLAY
TRIGGER:-PT2H
END:VALARM
END:VEVENT
BEGIN:VEVENT
CLASS:PUBLIC
DTSTART:20261011T123000Z
DURATION:PT2H30M
STATUS:CONFIRMED
SUMMARY:Schovelkoten Münster 8 vs. Kickerclub Gronau 1
DESCRIPTION:Kreisliga B (6. Spieltag)
LOCATION:Vereinsheim Münster, Lütkenbecker Weg 25, 48155 Münster
UID:SM-B15284@nwtfv.com
PRIORITY:5
SEQUENCE:0
CATEGORIES:SPORT
DTSTAMP:20260420T152601
BEGIN:VALARM
ACTION:DISPLAY
TRIGGER:-PT2H
END:VALARM
END:VEVENT
BEGIN:VEVENT
CLASS:PUBLIC
DTSTART:20261011T150000Z
DURATION:PT2H30M
STATUS:CONFIRMED
SUMMARY:Kickerclub Gronau 1 vs. FC Vreden 2
DESCRIPTION:Kreisliga B (6. Spieltag)
LOCATION:Vereinsheim Münster, Lütkenbecker Weg 25, 48155 Münster
UID:SM-B15285@nwtfv.com
PRIORITY:5
SEQUENCE:0
CATEGORIES:SPORT
DTSTAMP:20260420T152601
BEGIN:VALARM
ACTION:DISPLAY
TRIGGER:-PT2H
END:VALARM
END:VEVENT
END:VCALENDAR
