BEGIN:VCALENDAR
VERSION:2.0
PRODID:PHP
METHOD:REQUEST
X-ORIGINAL-URL:http://nwtfv.com/tischfussball-vereine-nrw-nwtfv?task=verein_begegnungen_ical&id=46
X-WR-CALNAME;VALUE=TEXT:Tablesoccer Dortmund e.V.
BEGIN:VEVENT
CLASS:PUBLIC
DTSTART:20250504T100000Z
DURATION:PT2H30M
STATUS:CONFIRMED
SUMMARY:Rheine Rockets vs. Tablesoccer Dortmund  2
DESCRIPTION:Landesliga (2. Spieltag)\nErgebnis: 1:7 (5:14)
LOCATION:Alter Schiessstand, Erzbischof-Buddenbrock-Str.3, 45721 Haltern am See-Lipprsmsdorf
UID:SM-B13641@nwtfv.com
PRIORITY:5
SEQUENCE:1
CATEGORIES:SPORT
DTSTAMP:20260420T152456
END:VEVENT
BEGIN:VEVENT
CLASS:PUBLIC
DTSTART:20250504T123000Z
DURATION:PT2H30M
STATUS:CONFIRMED
SUMMARY:Tablesoccer Dortmund  2 vs. Highlife Essen
DESCRIPTION:Landesliga (2. Spieltag)\nErgebnis: 6:2 (14:6)
LOCATION:Alter Schiessstand, Erzbischof-Buddenbrock-Str.3, 45721 Haltern am See-Lipprsmsdorf
UID:SM-B13647@nwtfv.com
PRIORITY:5
SEQUENCE:1
CATEGORIES:SPORT
DTSTAMP:20260420T152456
END:VEVENT
BEGIN:VEVENT
CLASS:PUBLIC
DTSTART:20250504T150000Z
DURATION:PT2H30M
STATUS:CONFIRMED
SUMMARY:Sportfreunde Kickerfeld vs. Tablesoccer Dortmund  2
DESCRIPTION:Landesliga (2. Spieltag)\nErgebnis: 3:5 (8:13)
LOCATION:Alter Schiessstand, Erzbischof-Buddenbrock-Str.3, 45721 Haltern am See-Lipprsmsdorf
UID:SM-B13654@nwtfv.com
PRIORITY:5
SEQUENCE:1
CATEGORIES:SPORT
DTSTAMP:20260420T152456
END:VEVENT
BEGIN:VEVENT
CLASS:PUBLIC
DTSTART:20250601T100000Z
DURATION:PT2H30M
STATUS:CONFIRMED
SUMMARY:Tablesoccer Dortmund  2 vs. Projekt Peng!
DESCRIPTION:Landesliga (3. Spieltag)\nErgebnis: 7:1 (15:4)
LOCATION:Vereinsheim Bonn, Siemensstraße 14, 53121 Bonn
UID:SM-B13658@nwtfv.com
PRIORITY:5
SEQUENCE:1
CATEGORIES:SPORT
DTSTAMP:20260420T152456
END:VEVENT
BEGIN:VEVENT
CLASS:PUBLIC
DTSTART:20250601T123000Z
DURATION:PT2H30M
STATUS:CONFIRMED
SUMMARY:Tablesoccer Dortmund  2 vs. Kickerfreunde Coesfeld
DESCRIPTION:Landesliga (3. Spieltag)\nErgebnis: 6:2 (13:8)
LOCATION:Vereinsheim Bonn, Siemensstraße 14, 53121 Bonn
UID:SM-B13663@nwtfv.com
PRIORITY:5
SEQUENCE:1
CATEGORIES:SPORT
DTSTAMP:20260420T152456
END:VEVENT
BEGIN:VEVENT
CLASS:PUBLIC
DTSTART:20250601T150000Z
DURATION:PT2H30M
STATUS:CONFIRMED
SUMMARY:Kicker Crew Bonn 2 vs. Tablesoccer Dortmund  2
DESCRIPTION:Landesliga (3. Spieltag)\nErgebnis: 4:4 (9:10)
LOCATION:Vereinsheim Bonn, Siemensstraße 14, 53121 Bonn
UID:SM-B13667@nwtfv.com
PRIORITY:5
SEQUENCE:1
CATEGORIES:SPORT
DTSTAMP:20260420T152456
END:VEVENT
BEGIN:VEVENT
CLASS:PUBLIC
DTSTART:20250914T100000Z
DURATION:PT2H30M
STATUS:CONFIRMED
SUMMARY:SpVg Odenkirchen 2 vs. Tablesoccer Dortmund  2
DESCRIPTION:Landesliga (4. Spieltag)\nErgebnis: 3:5 (8:13)
LOCATION:Vereinsheim Münster, Lütkenbecker Weg 25, 48155 Münster
UID:SM-B13672@nwtfv.com
PRIORITY:5
SEQUENCE:1
CATEGORIES:SPORT
DTSTAMP:20260420T152456
END:VEVENT
BEGIN:VEVENT
CLASS:PUBLIC
DTSTART:20250914T123000Z
DURATION:PT2H30M
STATUS:CONFIRMED
SUMMARY:Tablesoccer Dortmund  2 vs. Arminia Bielefeld 2
DESCRIPTION:Landesliga (4. Spieltag)\nErgebnis: 4:4 (11:10)
LOCATION:Vereinsheim Münster, Lütkenbecker Weg 25, 48155 Münster
UID:SM-B13675@nwtfv.com
PRIORITY:5
SEQUENCE:1
CATEGORIES:SPORT
DTSTAMP:20260420T152456
END:VEVENT
BEGIN:VEVENT
CLASS:PUBLIC
DTSTART:20250914T150000Z
DURATION:PT2H30M
STATUS:CONFIRMED
SUMMARY:Tablesoccer Dortmund  2 vs. Schovelkoten Münster 2
DESCRIPTION:Landesliga (4. Spieltag)\nErgebnis: 4:4 (10:11)
LOCATION:Vereinsheim Münster, Lütkenbecker Weg 25, 48155 Münster
UID:SM-B13684@nwtfv.com
PRIORITY:5
SEQUENCE:1
CATEGORIES:SPORT
DTSTAMP:20260420T152456
END:VEVENT
BEGIN:VEVENT
CLASS:PUBLIC
DTSTART:20251102T110000Z
DURATION:PT2H30M
STATUS:CONFIRMED
SUMMARY:Tablesoccer Dortmund  2 vs. Rheine Rockets
DESCRIPTION:Landesliga (5. Spieltag)\nErgebnis: 5:3 (12:8)
LOCATION:Downstairs, Germanenallee 4, 48429 Rheine
UID:SM-B13686@nwtfv.com
PRIORITY:5
SEQUENCE:1
CATEGORIES:SPORT
DTSTAMP:20260420T152456
END:VEVENT
BEGIN:VEVENT
CLASS:PUBLIC
DTSTART:20251102T133000Z
DURATION:PT2H30M
STATUS:CONFIRMED
SUMMARY:Highlife Essen vs. Tablesoccer Dortmund  2
DESCRIPTION:Landesliga (5. Spieltag)\nErgebnis: 5:3 (11:9)
LOCATION:Downstairs, Germanenallee 4, 48429 Rheine
UID:SM-B13692@nwtfv.com
PRIORITY:5
SEQUENCE:1
CATEGORIES:SPORT
DTSTAMP:20260420T152456
END:VEVENT
BEGIN:VEVENT
CLASS:PUBLIC
DTSTART:20251102T160000Z
DURATION:PT2H30M
STATUS:CONFIRMED
SUMMARY:Tablesoccer Dortmund  2 vs. Sportfreunde Kickerfeld
DESCRIPTION:Landesliga (5. Spieltag)\nErgebnis: 7:1 (15:3)
LOCATION:Downstairs, Germanenallee 4, 48429 Rheine
UID:SM-B13699@nwtfv.com
PRIORITY:5
SEQUENCE:1
CATEGORIES:SPORT
DTSTAMP:20260420T152456
END:VEVENT
BEGIN:VEVENT
CLASS:PUBLIC
DTSTART:20251206T110000Z
DURATION:PT2H30M
STATUS:CONFIRMED
SUMMARY:Projekt Peng! vs. Tablesoccer Dortmund  2
DESCRIPTION:Landesliga (6. Spieltag)\nErgebnis: 3:5 (8:12)
LOCATION:Kölner Kickerfabrik, Kartäuserwall 55, 50677 Köln
UID:SM-B13703@nwtfv.com
PRIORITY:5
SEQUENCE:1
CATEGORIES:SPORT
DTSTAMP:20260420T152456
END:VEVENT
BEGIN:VEVENT
CLASS:PUBLIC
DTSTART:20251206T133000Z
DURATION:PT2H30M
STATUS:CONFIRMED
SUMMARY:Kickerfreunde Coesfeld vs. Tablesoccer Dortmund  2
DESCRIPTION:Landesliga (6. Spieltag)\nErgebnis: 4:4 (10:10)
LOCATION:Kölner Kickerfabrik, Kartäuserwall 55, 50677 Köln
UID:SM-B13708@nwtfv.com
PRIORITY:5
SEQUENCE:1
CATEGORIES:SPORT
DTSTAMP:20260420T152456
END:VEVENT
BEGIN:VEVENT
CLASS:PUBLIC
DTSTART:20251206T160000Z
DURATION:PT2H30M
STATUS:CONFIRMED
SUMMARY:Tablesoccer Dortmund  2 vs. Kicker Crew Bonn 2
DESCRIPTION:Landesliga (6. Spieltag)\nErgebnis: 3:5 (11:10)
LOCATION:Kölner Kickerfabrik, Kartäuserwall 55, 50677 Köln
UID:SM-B13712@nwtfv.com
PRIORITY:5
SEQUENCE:1
CATEGORIES:SPORT
DTSTAMP:20260420T152456
END:VEVENT
BEGIN:VEVENT
CLASS:PUBLIC
DTSTART:20260125T110000Z
DURATION:PT2H30M
STATUS:CONFIRMED
SUMMARY:Foos Club Köln vs. Tablesoccer Dortmund  2
DESCRIPTION:Landesliga (1. Spieltag)\nErgebnis: 2:6 (5:13)
LOCATION:Kölner Kickerfabrik, Kartäuserwall 55, 50677 Köln
UID:SM-B14433@nwtfv.com
PRIORITY:5
SEQUENCE:1
CATEGORIES:SPORT
DTSTAMP:20260420T152456
END:VEVENT
BEGIN:VEVENT
CLASS:PUBLIC
DTSTART:20260125T133000Z
DURATION:PT2H30M
STATUS:CONFIRMED
SUMMARY:Tablesoccer Dortmund  2 vs. Kicker Crew Bonn 2
DESCRIPTION:Landesliga (1. Spieltag)\nErgebnis: 3:5 (8:12)
LOCATION:Kölner Kickerfabrik, Kartäuserwall 55, 50677 Köln
UID:SM-B14439@nwtfv.com
PRIORITY:5
SEQUENCE:1
CATEGORIES:SPORT
DTSTAMP:20260420T152456
END:VEVENT
BEGIN:VEVENT
CLASS:PUBLIC
DTSTART:20260125T160000Z
DURATION:PT2H30M
STATUS:CONFIRMED
SUMMARY:Tablesoccer Dortmund  2 vs. Projekt Peng!
DESCRIPTION:Landesliga (1. Spieltag)\nErgebnis: 4:4 (9:10)
LOCATION:Kölner Kickerfabrik, Kartäuserwall 55, 50677 Köln
UID:SM-B14444@nwtfv.com
PRIORITY:5
SEQUENCE:1
CATEGORIES:SPORT
DTSTAMP:20260420T152456
END:VEVENT
BEGIN:VEVENT
CLASS:PUBLIC
DTSTART:20260419T100000Z
DURATION:PT2H30M
STATUS:CONFIRMED
SUMMARY:Highlife Essen vs. Tablesoccer Dortmund  2
DESCRIPTION:Landesliga (2. Spieltag)\nErgebnis: 4:4 (10:8)
LOCATION:Alter Schiessstand, Erzbischof-Buddenbrock-Str.3, 45721 Haltern am See-Lipprsmsdorf
UID:SM-B14590@nwtfv.com
PRIORITY:5
SEQUENCE:1
CATEGORIES:SPORT
DTSTAMP:20260420T152456
END:VEVENT
BEGIN:VEVENT
CLASS:PUBLIC
DTSTART:20260419T123000Z
DURATION:PT2H30M
STATUS:CONFIRMED
SUMMARY:Odenkirchen Kicker Giants vs. Tablesoccer Dortmund  2
DESCRIPTION:Landesliga (2. Spieltag)\nErgebnis: 4:4 (10:11)
LOCATION:Alter Schiessstand, Erzbischof-Buddenbrock-Str.3, 45721 Haltern am See-Lipprsmsdorf
UID:SM-B14596@nwtfv.com
PRIORITY:5
SEQUENCE:1
CATEGORIES:SPORT
DTSTAMP:20260420T152456
END:VEVENT
BEGIN:VEVENT
CLASS:PUBLIC
DTSTART:20260419T150000Z
DURATION:PT2H30M
STATUS:CONFIRMED
SUMMARY:Sportfreunde Kickerfeld vs. Tablesoccer Dortmund  2
DESCRIPTION:Landesliga (2. Spieltag)\nErgebnis: 4:4 (9:10)
LOCATION:Alter Schiessstand, Erzbischof-Buddenbrock-Str.3, 45721 Haltern am See-Lipprsmsdorf
UID:SM-B14602@nwtfv.com
PRIORITY:5
SEQUENCE:1
CATEGORIES:SPORT
DTSTAMP:20260420T152456
END:VEVENT
BEGIN:VEVENT
CLASS:PUBLIC
DTSTART:20260517T100000Z
DURATION:PT2H30M
STATUS:CONFIRMED
SUMMARY:Kickerfreunde Coesfeld vs. Tablesoccer Dortmund  2
DESCRIPTION:Landesliga (3. Spieltag)
LOCATION:Vereinsheim Coesfeld, Am Roten Baum 19, 48653 Coesfeld
UID:SM-B14606@nwtfv.com
PRIORITY:5
SEQUENCE:0
CATEGORIES:SPORT
DTSTAMP:20260420T152456
END:VEVENT
BEGIN:VEVENT
CLASS:PUBLIC
DTSTART:20260517T123000Z
DURATION:PT2H30M
STATUS:CONFIRMED
SUMMARY:SV 1860 Minden 1 vs. Tablesoccer Dortmund  2
DESCRIPTION:Landesliga (3. Spieltag)
LOCATION:Vereinsheim Coesfeld, Am Roten Baum 19, 48653 Coesfeld
UID:SM-B14612@nwtfv.com
PRIORITY:5
SEQUENCE:0
CATEGORIES:SPORT
DTSTAMP:20260420T152456
END:VEVENT
BEGIN:VEVENT
CLASS:PUBLIC
DTSTART:20260517T150000Z
DURATION:PT2H30M
STATUS:CONFIRMED
SUMMARY:Schovelkoten Münster 2 vs. Tablesoccer Dortmund  2
DESCRIPTION:Landesliga (3. Spieltag)
LOCATION:Vereinsheim Coesfeld, Am Roten Baum 19, 48653 Coesfeld
UID:SM-B14616@nwtfv.com
PRIORITY:5
SEQUENCE:0
CATEGORIES:SPORT
DTSTAMP:20260420T152456
END:VEVENT
BEGIN:VEVENT
CLASS:PUBLIC
DTSTART:20260621T100000Z
DURATION:PT2H30M
STATUS:CONFIRMED
SUMMARY:Tablesoccer Dortmund  2 vs. Foos Club Köln
DESCRIPTION:Landesliga (4. Spieltag)
LOCATION:Vereinsheim Bonn, Siemensstraße 14, 53121 Bonn
UID:SM-B14618@nwtfv.com
PRIORITY:5
SEQUENCE:0
CATEGORIES:SPORT
DTSTAMP:20260420T152456
END:VEVENT
BEGIN:VEVENT
CLASS:PUBLIC
DTSTART:20260621T123000Z
DURATION:PT2H30M
STATUS:CONFIRMED
SUMMARY:Kicker Crew Bonn 2 vs. Tablesoccer Dortmund  2
DESCRIPTION:Landesliga (4. Spieltag)
LOCATION:Vereinsheim Bonn, Siemensstraße 14, 53121 Bonn
UID:SM-B14623@nwtfv.com
PRIORITY:5
SEQUENCE:0
CATEGORIES:SPORT
DTSTAMP:20260420T152456
END:VEVENT
BEGIN:VEVENT
CLASS:PUBLIC
DTSTART:20260621T150000Z
DURATION:PT2H30M
STATUS:CONFIRMED
SUMMARY:Projekt Peng! vs. Tablesoccer Dortmund  2
DESCRIPTION:Landesliga (4. Spieltag)
LOCATION:Vereinsheim Bonn, Siemensstraße 14, 53121 Bonn
UID:SM-B14629@nwtfv.com
PRIORITY:5
SEQUENCE:0
CATEGORIES:SPORT
DTSTAMP:20260420T152456
END:VEVENT
BEGIN:VEVENT
CLASS:PUBLIC
DTSTART:20260906T100000Z
DURATION:PT2H30M
STATUS:CONFIRMED
SUMMARY:Tablesoccer Dortmund  2 vs. Highlife Essen
DESCRIPTION:Landesliga (5. Spieltag)
LOCATION:Kölner Kickerfabrik, Kartäuserwall 55, 50677 Köln
UID:SM-B14635@nwtfv.com
PRIORITY:5
SEQUENCE:0
CATEGORIES:SPORT
DTSTAMP:20260420T152456
END:VEVENT
BEGIN:VEVENT
CLASS:PUBLIC
DTSTART:20260906T123000Z
DURATION:PT2H30M
STATUS:CONFIRMED
SUMMARY:Tablesoccer Dortmund  2 vs. Odenkirchen Kicker Giants
DESCRIPTION:Landesliga (5. Spieltag)
LOCATION:Kölner Kickerfabrik, Kartäuserwall 55, 50677 Köln
UID:SM-B14641@nwtfv.com
PRIORITY:5
SEQUENCE:0
CATEGORIES:SPORT
DTSTAMP:20260420T152456
END:VEVENT
BEGIN:VEVENT
CLASS:PUBLIC
DTSTART:20260906T150000Z
DURATION:PT2H30M
STATUS:CONFIRMED
SUMMARY:Tablesoccer Dortmund  2 vs. Sportfreunde Kickerfeld
DESCRIPTION:Landesliga (5. Spieltag)
LOCATION:Kölner Kickerfabrik, Kartäuserwall 55, 50677 Köln
UID:SM-B14647@nwtfv.com
PRIORITY:5
SEQUENCE:0
CATEGORIES:SPORT
DTSTAMP:20260420T152456
END:VEVENT
BEGIN:VEVENT
CLASS:PUBLIC
DTSTART:20261011T100000Z
DURATION:PT2H30M
STATUS:CONFIRMED
SUMMARY:Tablesoccer Dortmund  2 vs. Kickerfreunde Coesfeld
DESCRIPTION:Landesliga (6. Spieltag)
LOCATION:Kölner Kickerfabrik, Kartäuserwall 55, 50677 Köln
UID:SM-B14651@nwtfv.com
PRIORITY:5
SEQUENCE:0
CATEGORIES:SPORT
DTSTAMP:20260420T152456
END:VEVENT
BEGIN:VEVENT
CLASS:PUBLIC
DTSTART:20261011T123000Z
DURATION:PT2H30M
STATUS:CONFIRMED
SUMMARY:Tablesoccer Dortmund  2 vs. SV 1860 Minden 1
DESCRIPTION:Landesliga (6. Spieltag)
LOCATION:Kölner Kickerfabrik, Kartäuserwall 55, 50677 Köln
UID:SM-B14657@nwtfv.com
PRIORITY:5
SEQUENCE:0
CATEGORIES:SPORT
DTSTAMP:20260420T152456
END:VEVENT
BEGIN:VEVENT
CLASS:PUBLIC
DTSTART:20261011T150000Z
DURATION:PT2H30M
STATUS:CONFIRMED
SUMMARY:Tablesoccer Dortmund  2 vs. Schovelkoten Münster 2
DESCRIPTION:Landesliga (6. Spieltag)
LOCATION:Kölner Kickerfabrik, Kartäuserwall 55, 50677 Köln
UID:SM-B14661@nwtfv.com
PRIORITY:5
SEQUENCE:0
CATEGORIES:SPORT
DTSTAMP:20260420T152456
END:VEVENT
END:VCALENDAR
