BEGIN:VCALENDAR
VERSION:2.0
PRODID:PHP
METHOD:REQUEST
X-ORIGINAL-URL:http://nwtfv.com/tischfussball-vereine-nrw-nwtfv?task=verein_begegnungen_ical&id=65
X-WR-CALNAME;VALUE=TEXT:TF Bergisch Land
BEGIN:VEVENT
CLASS:PUBLIC
DTSTART:20250504T100000Z
DURATION:PT2H30M
STATUS:CONFIRMED
SUMMARY:Kickern.de vs. TF Bergisch Land 2
DESCRIPTION:Kreisliga C (2. Spieltag)\nErgebnis: 5:3 (11:8)
LOCATION:ESV Bootshaus, Obermeidericher Straße 200, 47138 Duisburg
UID:SM-B13837@nwtfv.com
PRIORITY:5
SEQUENCE:1
CATEGORIES:SPORT
DTSTAMP:20260420T152456
END:VEVENT
BEGIN:VEVENT
CLASS:PUBLIC
DTSTART:20250504T100000Z
DURATION:PT2H30M
STATUS:CONFIRMED
SUMMARY:TF Bergisch Land 1 vs. Kicker Crew Bonn 5
DESCRIPTION:Bezirksliga A (2. Spieltag)\nErgebnis: 3:5 (8:12)
LOCATION:Alemannia Aachen - Abteilung Tischfußbal, Schumanstraße 29 (rechter Eing, 52146 Würselen
UID:SM-B14023@nwtfv.com
PRIORITY:5
SEQUENCE:1
CATEGORIES:SPORT
DTSTAMP:20260420T152456
END:VEVENT
BEGIN:VEVENT
CLASS:PUBLIC
DTSTART:20250504T123000Z
DURATION:PT2H30M
STATUS:CONFIRMED
SUMMARY:TF Bergisch Land 1 vs. Alemannia Aachen 3
DESCRIPTION:Bezirksliga A (2. Spieltag)\nErgebnis: 1:7 (5:14)
LOCATION:Alemannia Aachen - Abteilung Tischfußbal, Schumanstraße 29 (rechter Eing, 52146 Würselen
UID:SM-B14028@nwtfv.com
PRIORITY:5
SEQUENCE:1
CATEGORIES:SPORT
DTSTAMP:20260420T152456
END:VEVENT
BEGIN:VEVENT
CLASS:PUBLIC
DTSTART:20250504T150000Z
DURATION:PT2H30M
STATUS:CONFIRMED
SUMMARY:Tempelritter vs. TF Bergisch Land 1
DESCRIPTION:Bezirksliga A (2. Spieltag)\nErgebnis: 2:6 (4:13)
LOCATION:Alemannia Aachen - Abteilung Tischfußbal, Schumanstraße 29 (rechter Eing, 52146 Würselen
UID:SM-B14032@nwtfv.com
PRIORITY:5
SEQUENCE:1
CATEGORIES:SPORT
DTSTAMP:20260420T152456
END:VEVENT
BEGIN:VEVENT
CLASS:PUBLIC
DTSTART:20250504T150000Z
DURATION:PT2H30M
STATUS:CONFIRMED
SUMMARY:TF Bergisch Land 2 vs. ESV Meiderich 3
DESCRIPTION:Kreisliga C (2. Spieltag)\nErgebnis: 4:4 (10:9)
LOCATION:ESV Bootshaus, Obermeidericher Straße 200, 47138 Duisburg
UID:SM-B13842@nwtfv.com
PRIORITY:5
SEQUENCE:1
CATEGORIES:SPORT
DTSTAMP:20260420T152456
END:VEVENT
BEGIN:VEVENT
CLASS:PUBLIC
DTSTART:20250601T100000Z
DURATION:PT2H30M
STATUS:CONFIRMED
SUMMARY:KCO Oberaußem vs. TF Bergisch Land 2
DESCRIPTION:Kreisliga C (3. Spieltag)\nErgebnis: 8:0 (16:0)
LOCATION:Walzenwerk, Schulweg 4, 57223 Kreuztal-Fellinghausen
UID:SM-B13843@nwtfv.com
PRIORITY:5
SEQUENCE:1
CATEGORIES:SPORT
DTSTAMP:20260420T152456
END:VEVENT
BEGIN:VEVENT
CLASS:PUBLIC
DTSTART:20250601T100000Z
DURATION:PT2H30M
STATUS:CONFIRMED
SUMMARY:SpVg Odenkirchen 4 vs. TF Bergisch Land 1
DESCRIPTION:Bezirksliga A (3. Spieltag)\nErgebnis: 0:8 (3:16)
LOCATION:Kickerburg, Deweerthstraße 2, 42107 Wuppertal
UID:SM-B14035@nwtfv.com
PRIORITY:5
SEQUENCE:1
CATEGORIES:SPORT
DTSTAMP:20260420T152456
END:VEVENT
BEGIN:VEVENT
CLASS:PUBLIC
DTSTART:20250601T123000Z
DURATION:PT2H30M
STATUS:CONFIRMED
SUMMARY:TF Bergisch Land 1 vs. Masters of Puppets
DESCRIPTION:Bezirksliga A (3. Spieltag)\nErgebnis: 6:2 (14:5)
LOCATION:Kickerburg, Deweerthstraße 2, 42107 Wuppertal
UID:SM-B14043@nwtfv.com
PRIORITY:5
SEQUENCE:1
CATEGORIES:SPORT
DTSTAMP:20260420T152456
END:VEVENT
BEGIN:VEVENT
CLASS:PUBLIC
DTSTART:20250601T150000Z
DURATION:PT2H30M
STATUS:CONFIRMED
SUMMARY:TF Bergisch Land 1 vs. 1. TFC Kleve 2
DESCRIPTION:Bezirksliga A (3. Spieltag)\nErgebnis: 8:0 (16:0)
LOCATION:Kickerburg, Deweerthstraße 2, 42107 Wuppertal
UID:SM-B14048@nwtfv.com
PRIORITY:5
SEQUENCE:1
CATEGORIES:SPORT
DTSTAMP:20260420T152456
END:VEVENT
BEGIN:VEVENT
CLASS:PUBLIC
DTSTART:20250601T150000Z
DURATION:PT2H30M
STATUS:CONFIRMED
SUMMARY:TF Bergisch Land 2 vs. ESV Meiderich 4
DESCRIPTION:Kreisliga C (3. Spieltag)\nErgebnis: 5:3 (11:8)
LOCATION:Walzenwerk, Schulweg 4, 57223 Kreuztal-Fellinghausen
UID:SM-B13849@nwtfv.com
PRIORITY:5
SEQUENCE:1
CATEGORIES:SPORT
DTSTAMP:20260420T152456
END:VEVENT
BEGIN:VEVENT
CLASS:PUBLIC
DTSTART:20250830T080000Z
DURATION:PT2H30M
STATUS:CONFIRMED
SUMMARY:1860 Oldies Minden 2 vs. Kölner Kickerfabrik Senioren 2
DESCRIPTION:Senioren Landesliga Pokal - Vorrunde (1. Spieltag)\nErgebnis: 1:1 (5:5)
UID:SM-B14364@nwtfv.com
PRIORITY:5
SEQUENCE:1
CATEGORIES:SPORT
DTSTAMP:20260420T152456
END:VEVENT
BEGIN:VEVENT
CLASS:PUBLIC
DTSTART:20250830T100000Z
DURATION:PT2H30M
STATUS:CONFIRMED
SUMMARY:Kickerfreunde Oberhausen Senioren 2 vs. Kölner Kickerfabrik Senioren 2
DESCRIPTION:Senioren Landesliga Pokal - Vorrunde (2. Spieltag)\nErgebnis: 1:1 (5:5)
UID:SM-B14384@nwtfv.com
PRIORITY:5
SEQUENCE:1
CATEGORIES:SPORT
DTSTAMP:20260420T152456
END:VEVENT
BEGIN:VEVENT
CLASS:PUBLIC
DTSTART:20250830T100000Z
DURATION:PT2H30M
STATUS:CONFIRMED
SUMMARY:KKC-Haltern Senioren III vs. Kölner Kickerfabrik Senioren 2
DESCRIPTION:Senioren Landesliga Pokal - Vorrunde (3. Spieltag)\nErgebnis: 2:0 (6:4)
UID:SM-B14396@nwtfv.com
PRIORITY:5
SEQUENCE:1
CATEGORIES:SPORT
DTSTAMP:20260420T152456
END:VEVENT
BEGIN:VEVENT
CLASS:PUBLIC
DTSTART:20250830T133000Z
DURATION:PT2H30M
STATUS:CONFIRMED
SUMMARY:KKC-Haltern Senioren II vs. Kölner Kickerfabrik Senioren 2
DESCRIPTION:Senioren Landesliga Pokal - Vorrunde (4. Spieltag)\nErgebnis: 0:2 (4:6)
UID:SM-B14401@nwtfv.com
PRIORITY:5
SEQUENCE:1
CATEGORIES:SPORT
DTSTAMP:20260420T152456
END:VEVENT
BEGIN:VEVENT
CLASS:PUBLIC
DTSTART:20250830T153000Z
DURATION:PT2H30M
STATUS:CONFIRMED
SUMMARY:Kölner Kickerfabrik Senioren 2 vs. TSV Viktoria Senioren
DESCRIPTION:Senioren Landesliga Pokal - Vorrunde (5. Spieltag)\nErgebnis: 0:2 (1:9)
UID:SM-B14413@nwtfv.com
PRIORITY:5
SEQUENCE:1
CATEGORIES:SPORT
DTSTAMP:20260420T152456
END:VEVENT
BEGIN:VEVENT
CLASS:PUBLIC
DTSTART:20250830T170000Z
DURATION:PT2H30M
STATUS:CONFIRMED
SUMMARY:Kickerfreunde Coesfeld Senioren 2 vs. Kölner Kickerfabrik Senioren 2
DESCRIPTION:Senioren Landesliga Pokal - Vorrunde (6. Spieltag)\nErgebnis: 2:0 (6:4)
UID:SM-B14422@nwtfv.com
PRIORITY:5
SEQUENCE:1
CATEGORIES:SPORT
DTSTAMP:20260420T152456
END:VEVENT
BEGIN:VEVENT
CLASS:PUBLIC
DTSTART:20250831T103000Z
DURATION:PT2H30M
STATUS:CONFIRMED
SUMMARY:Kölner Kickerfabrik Senioren 2 vs. Arminia Bielefeld Senioren 2
DESCRIPTION:Senioren Landesliga Pokal - KO Runde (Platz 17-20)\nErgebnis: 7:9 (7:9)
UID:SM-B14431@nwtfv.com
PRIORITY:5
SEQUENCE:1
CATEGORIES:SPORT
DTSTAMP:20260420T152456
END:VEVENT
BEGIN:VEVENT
CLASS:PUBLIC
DTSTART:20250831T120000Z
DURATION:PT2H30M
STATUS:CONFIRMED
SUMMARY:Kölner Kickerfabrik Senioren 2 vs. 1860 Oldies Minden 2
DESCRIPTION:Senioren Landesliga Pokal - KO Runde (Platz 19-20)\nErgebnis: 10:4 (10:4)
UID:SM-B14361@nwtfv.com
PRIORITY:5
SEQUENCE:1
CATEGORIES:SPORT
DTSTAMP:20260420T152456
END:VEVENT
BEGIN:VEVENT
CLASS:PUBLIC
DTSTART:20250914T100000Z
DURATION:PT2H30M
STATUS:CONFIRMED
SUMMARY:TF Bergisch Land 1 vs. Kicker Crew Bonn 6
DESCRIPTION:Bezirksliga A (4. Spieltag)\nErgebnis: 3:5 (8:11)
LOCATION:SpVg 05/07 Odenkirchen e.V., Wetschewell 2, 41199 Mönchengladbach-Odenkirchen
UID:SM-B14053@nwtfv.com
PRIORITY:5
SEQUENCE:1
CATEGORIES:SPORT
DTSTAMP:20260420T152456
END:VEVENT
BEGIN:VEVENT
CLASS:PUBLIC
DTSTART:20250914T100000Z
DURATION:PT2H30M
STATUS:CONFIRMED
SUMMARY:TF Bergisch Land 2 vs. TuS Fellinghausen 2
DESCRIPTION:Kreisliga C (4. Spieltag)\nErgebnis: 7:1 (15:2)
LOCATION:ESV Bootshaus, Obermeidericher Straße 200, 47138 Duisburg
UID:SM-B13851@nwtfv.com
PRIORITY:5
SEQUENCE:1
CATEGORIES:SPORT
DTSTAMP:20260420T152456
END:VEVENT
BEGIN:VEVENT
CLASS:PUBLIC
DTSTART:20250914T123000Z
DURATION:PT2H30M
STATUS:CONFIRMED
SUMMARY:Boofken Münster 3 vs. TF Bergisch Land 2
DESCRIPTION:Kreisliga C (4. Spieltag)\nErgebnis: 8:0 (16:4)
LOCATION:ESV Bootshaus, Obermeidericher Straße 200, 47138 Duisburg
UID:SM-B13858@nwtfv.com
PRIORITY:5
SEQUENCE:1
CATEGORIES:SPORT
DTSTAMP:20260420T152456
END:VEVENT
BEGIN:VEVENT
CLASS:PUBLIC
DTSTART:20250914T123000Z
DURATION:PT2H30M
STATUS:CONFIRMED
SUMMARY:Kicker Crew Bonn 7 vs. TF Bergisch Land 1
DESCRIPTION:Bezirksliga A (4. Spieltag)\nErgebnis: 3:5 (9:11)
LOCATION:SpVg 05/07 Odenkirchen e.V., Wetschewell 2, 41199 Mönchengladbach-Odenkirchen
UID:SM-B14058@nwtfv.com
PRIORITY:5
SEQUENCE:1
CATEGORIES:SPORT
DTSTAMP:20260420T152456
END:VEVENT
BEGIN:VEVENT
CLASS:PUBLIC
DTSTART:20250914T150000Z
DURATION:PT2H30M
STATUS:CONFIRMED
SUMMARY:ESV Meiderich 2 vs. TF Bergisch Land 1
DESCRIPTION:Bezirksliga A (4. Spieltag)\nErgebnis: 5:3 (12:6)
LOCATION:SpVg 05/07 Odenkirchen e.V., Wetschewell 2, 41199 Mönchengladbach-Odenkirchen
UID:SM-B14063@nwtfv.com
PRIORITY:5
SEQUENCE:1
CATEGORIES:SPORT
DTSTAMP:20260420T152456
END:VEVENT
BEGIN:VEVENT
CLASS:PUBLIC
DTSTART:20251102T110000Z
DURATION:PT2H30M
STATUS:CONFIRMED
SUMMARY:Kicker Crew Bonn 5 vs. TF Bergisch Land 1
DESCRIPTION:Bezirksliga A (5. Spieltag)\nErgebnis: 2:6 (4:14)
LOCATION:Vereinsheim Bonn, Siemensstraße 14, 53121 Bonn
UID:SM-B14068@nwtfv.com
PRIORITY:5
SEQUENCE:1
CATEGORIES:SPORT
DTSTAMP:20260420T152456
END:VEVENT
BEGIN:VEVENT
CLASS:PUBLIC
DTSTART:20251102T110000Z
DURATION:PT2H30M
STATUS:CONFIRMED
SUMMARY:TF Bergisch Land 2 vs. Kickern.de
DESCRIPTION:Kreisliga C (5. Spieltag)\nErgebnis: 4:4 (9:12)
LOCATION:Vereinsheim Oberaussem, Zur Ville 2, 50129 Bergheim
UID:SM-B13861@nwtfv.com
PRIORITY:5
SEQUENCE:1
CATEGORIES:SPORT
DTSTAMP:20260420T152456
END:VEVENT
BEGIN:VEVENT
CLASS:PUBLIC
DTSTART:20251102T133000Z
DURATION:PT2H30M
STATUS:CONFIRMED
SUMMARY:Alemannia Aachen 3 vs. TF Bergisch Land 1
DESCRIPTION:Bezirksliga A (5. Spieltag)\nErgebnis: 3:5 (8:12)
LOCATION:Vereinsheim Bonn, Siemensstraße 14, 53121 Bonn
UID:SM-B14073@nwtfv.com
PRIORITY:5
SEQUENCE:1
CATEGORIES:SPORT
DTSTAMP:20260420T152456
END:VEVENT
BEGIN:VEVENT
CLASS:PUBLIC
DTSTART:20251102T160000Z
DURATION:PT2H30M
STATUS:CONFIRMED
SUMMARY:ESV Meiderich 3 vs. TF Bergisch Land 2
DESCRIPTION:Kreisliga C (5. Spieltag)\nErgebnis: 3:5 (10:12)
LOCATION:Vereinsheim Oberaussem, Zur Ville 2, 50129 Bergheim
UID:SM-B13866@nwtfv.com
PRIORITY:5
SEQUENCE:1
CATEGORIES:SPORT
DTSTAMP:20260420T152456
END:VEVENT
BEGIN:VEVENT
CLASS:PUBLIC
DTSTART:20251102T160000Z
DURATION:PT2H30M
STATUS:CONFIRMED
SUMMARY:TF Bergisch Land 1 vs. Tempelritter
DESCRIPTION:Bezirksliga A (5. Spieltag)\nErgebnis: 8:0 (16:3)
LOCATION:Vereinsheim Bonn, Siemensstraße 14, 53121 Bonn
UID:SM-B14077@nwtfv.com
PRIORITY:5
SEQUENCE:1
CATEGORIES:SPORT
DTSTAMP:20260420T152456
END:VEVENT
BEGIN:VEVENT
CLASS:PUBLIC
DTSTART:20251207T110000Z
DURATION:PT2H30M
STATUS:CONFIRMED
SUMMARY:TF Bergisch Land 1 vs. SpVg Odenkirchen 4
DESCRIPTION:Bezirksliga A (6. Spieltag)\nErgebnis: 7:1 (15:3)
LOCATION:Kölner Kickerfabrik, Kartäuserwall 55, 50677 Köln
UID:SM-B14080@nwtfv.com
PRIORITY:5
SEQUENCE:1
CATEGORIES:SPORT
DTSTAMP:20260420T152456
END:VEVENT
BEGIN:VEVENT
CLASS:PUBLIC
DTSTART:20251207T110000Z
DURATION:PT2H30M
STATUS:CONFIRMED
SUMMARY:TF Bergisch Land 2 vs. KCO Oberaußem
DESCRIPTION:Kreisliga C (6. Spieltag)\nErgebnis: 4:4 (10:10)
LOCATION:Kickerburg, Deweerthstraße 2, 42107 Wuppertal
UID:SM-B13867@nwtfv.com
PRIORITY:5
SEQUENCE:1
CATEGORIES:SPORT
DTSTAMP:20260420T152456
END:VEVENT
BEGIN:VEVENT
CLASS:PUBLIC
DTSTART:20251207T133000Z
DURATION:PT2H30M
STATUS:CONFIRMED
SUMMARY:Masters of Puppets vs. TF Bergisch Land 1
DESCRIPTION:Bezirksliga A (6. Spieltag)\nErgebnis: 2:6 (7:12)
LOCATION:Kölner Kickerfabrik, Kartäuserwall 55, 50677 Köln
UID:SM-B14088@nwtfv.com
PRIORITY:5
SEQUENCE:1
CATEGORIES:SPORT
DTSTAMP:20260420T152456
END:VEVENT
BEGIN:VEVENT
CLASS:PUBLIC
DTSTART:20251207T160000Z
DURATION:PT2H30M
STATUS:CONFIRMED
SUMMARY:1. TFC Kleve 2 vs. TF Bergisch Land 1
DESCRIPTION:Bezirksliga A (6. Spieltag)\nErgebnis: 0:8 (0:16)
LOCATION:Kölner Kickerfabrik, Kartäuserwall 55, 50677 Köln
UID:SM-B14093@nwtfv.com
PRIORITY:5
SEQUENCE:1
CATEGORIES:SPORT
DTSTAMP:20260420T152456
END:VEVENT
BEGIN:VEVENT
CLASS:PUBLIC
DTSTART:20251207T160000Z
DURATION:PT2H30M
STATUS:CONFIRMED
SUMMARY:ESV Meiderich 4 vs. TF Bergisch Land 2
DESCRIPTION:Kreisliga C (6. Spieltag)\nErgebnis: 1:7 (8:15)
LOCATION:Kickerburg, Deweerthstraße 2, 42107 Wuppertal
UID:SM-B13873@nwtfv.com
PRIORITY:5
SEQUENCE:1
CATEGORIES:SPORT
DTSTAMP:20260420T152456
END:VEVENT
BEGIN:VEVENT
CLASS:PUBLIC
DTSTART:20260125T110000Z
DURATION:PT2H30M
STATUS:CONFIRMED
SUMMARY:Alemannia Aachen 6 vs. TF Bergisch Land 1
DESCRIPTION:Bezirksliga A (1. Spieltag)\nErgebnis: 4:4 (9:10)
LOCATION:Alemannia Aachen - Abteilung Tischfußbal, Schumanstraße 29 (rechter Eing, 52146 Würselen
UID:SM-B14486@nwtfv.com
PRIORITY:5
SEQUENCE:1
CATEGORIES:SPORT
DTSTAMP:20260420T152456
END:VEVENT
BEGIN:VEVENT
CLASS:PUBLIC
DTSTART:20260125T110000Z
DURATION:PT2H30M
STATUS:CONFIRMED
SUMMARY:KC Seniorenstift 1 vs. TF Bergisch Land 2
DESCRIPTION:Kreisliga C (1. Spieltag)\nErgebnis: 5:3 (11:9)
LOCATION:ESV Bootshaus, Obermeidericher Straße 200, 47138 Duisburg
UID:SM-B14543@nwtfv.com
PRIORITY:5
SEQUENCE:1
CATEGORIES:SPORT
DTSTAMP:20260420T152456
END:VEVENT
BEGIN:VEVENT
CLASS:PUBLIC
DTSTART:20260125T133000Z
DURATION:PT2H30M
STATUS:CONFIRMED
SUMMARY:Alemannia Aachen 4 vs. TF Bergisch Land 1
DESCRIPTION:Bezirksliga A (1. Spieltag)\nErgebnis: 4:4 (10:10)
LOCATION:Alemannia Aachen - Abteilung Tischfußbal, Schumanstraße 29 (rechter Eing, 52146 Würselen
UID:SM-B14494@nwtfv.com
PRIORITY:5
SEQUENCE:1
CATEGORIES:SPORT
DTSTAMP:20260420T152456
END:VEVENT
BEGIN:VEVENT
CLASS:PUBLIC
DTSTART:20260125T133000Z
DURATION:PT2H30M
STATUS:CONFIRMED
SUMMARY:ESV Meiderich 3 vs. TF Bergisch Land 2
DESCRIPTION:Kreisliga C (1. Spieltag)\nErgebnis: 4:4 (11:9)
LOCATION:ESV Bootshaus, Obermeidericher Straße 200, 47138 Duisburg
UID:SM-B14546@nwtfv.com
PRIORITY:5
SEQUENCE:1
CATEGORIES:SPORT
DTSTAMP:20260420T152456
END:VEVENT
BEGIN:VEVENT
CLASS:PUBLIC
DTSTART:20260125T160000Z
DURATION:PT2H30M
STATUS:CONFIRMED
SUMMARY:TF Bergisch Land 1 vs. Alemannia Aachen 3
DESCRIPTION:Bezirksliga A (1. Spieltag)\nErgebnis: 4:4 (12:9)
LOCATION:Alemannia Aachen - Abteilung Tischfußbal, Schumanstraße 29 (rechter Eing, 52146 Würselen
UID:SM-B14498@nwtfv.com
PRIORITY:5
SEQUENCE:1
CATEGORIES:SPORT
DTSTAMP:20260420T152456
END:VEVENT
BEGIN:VEVENT
CLASS:PUBLIC
DTSTART:20260125T160000Z
DURATION:PT2H30M
STATUS:CONFIRMED
SUMMARY:TF Bergisch Land 2 vs. Die Ehemaligen
DESCRIPTION:Kreisliga C (1. Spieltag)\nErgebnis: 2:6 (4:14)
LOCATION:ESV Bootshaus, Obermeidericher Straße 200, 47138 Duisburg
UID:SM-B14562@nwtfv.com
PRIORITY:5
SEQUENCE:1
CATEGORIES:SPORT
DTSTAMP:20260420T152456
END:VEVENT
BEGIN:VEVENT
CLASS:PUBLIC
DTSTART:20260419T100000Z
DURATION:PT2H30M
STATUS:CONFIRMED
SUMMARY:TF Bergisch Land 1 vs. TFC Düsseldorf
DESCRIPTION:Bezirksliga A (2. Spieltag)\nErgebnis: 7:1 (15:4)
LOCATION:Kickerburg, Deweerthstraße 2, 42107 Wuppertal
UID:SM-B14813@nwtfv.com
PRIORITY:5
SEQUENCE:1
CATEGORIES:SPORT
DTSTAMP:20260420T152456
END:VEVENT
BEGIN:VEVENT
CLASS:PUBLIC
DTSTART:20260419T100000Z
DURATION:PT2H30M
STATUS:CONFIRMED
SUMMARY:TF Bergisch Land 2 vs. Kickerfreunde Oberhausen 3
DESCRIPTION:Kreisliga C (2. Spieltag)\nErgebnis: 8:0 (16:4)
LOCATION:Ferdinand Lasalle Haus, Skaggerrakstraße 66, 45888 Gelsenkirchen
UID:SM-B15161@nwtfv.com
PRIORITY:5
SEQUENCE:1
CATEGORIES:SPORT
DTSTAMP:20260420T152456
END:VEVENT
BEGIN:VEVENT
CLASS:PUBLIC
DTSTART:20260419T123000Z
DURATION:PT2H30M
STATUS:CONFIRMED
SUMMARY:Tempelritter vs. TF Bergisch Land 1
DESCRIPTION:Bezirksliga A (2. Spieltag)\nErgebnis: 4:4 (10:10)
LOCATION:Kickerburg, Deweerthstraße 2, 42107 Wuppertal
UID:SM-B14818@nwtfv.com
PRIORITY:5
SEQUENCE:1
CATEGORIES:SPORT
DTSTAMP:20260420T152456
END:VEVENT
BEGIN:VEVENT
CLASS:PUBLIC
DTSTART:20260419T150000Z
DURATION:PT2H30M
STATUS:CONFIRMED
SUMMARY:TF Bergisch Land 1 vs. SpVg Odenkirchen 4
DESCRIPTION:Bezirksliga A (2. Spieltag)\nErgebnis: 4:4 (9:9)
LOCATION:Kickerburg, Deweerthstraße 2, 42107 Wuppertal
UID:SM-B14823@nwtfv.com
PRIORITY:5
SEQUENCE:1
CATEGORIES:SPORT
DTSTAMP:20260420T152456
END:VEVENT
BEGIN:VEVENT
CLASS:PUBLIC
DTSTART:20260419T150000Z
DURATION:PT2H30M
STATUS:CONFIRMED
SUMMARY:TF Bergisch Land 2 vs. TSV Viktoria Mülheim 2
DESCRIPTION:Kreisliga C (2. Spieltag)\nErgebnis: 3:5 (8:12)
LOCATION:Ferdinand Lasalle Haus, Skaggerrakstraße 66, 45888 Gelsenkirchen
UID:SM-B15169@nwtfv.com
PRIORITY:5
SEQUENCE:1
CATEGORIES:SPORT
DTSTAMP:20260420T152456
END:VEVENT
BEGIN:VEVENT
CLASS:PUBLIC
DTSTART:20260517T100000Z
DURATION:PT2H30M
STATUS:CONFIRMED
SUMMARY:ESV Meiderich 4 vs. TF Bergisch Land 2
DESCRIPTION:Kreisliga C (3. Spieltag)
LOCATION:ESV Bootshaus, Obermeidericher Straße 200, 47138 Duisburg
UID:SM-B15175@nwtfv.com
PRIORITY:5
SEQUENCE:0
CATEGORIES:SPORT
DTSTAMP:20260420T152456
END:VEVENT
BEGIN:VEVENT
CLASS:PUBLIC
DTSTART:20260517T100000Z
DURATION:PT2H30M
STATUS:CONFIRMED
SUMMARY:Masters of Puppets vs. TF Bergisch Land 1
DESCRIPTION:Bezirksliga A (3. Spieltag)
LOCATION:Vereinsheim Bonn, Siemensstraße 14, 53121 Bonn
UID:SM-B14832@nwtfv.com
PRIORITY:5
SEQUENCE:0
CATEGORIES:SPORT
DTSTAMP:20260420T152456
END:VEVENT
BEGIN:VEVENT
CLASS:PUBLIC
DTSTART:20260517T123000Z
DURATION:PT2H30M
STATUS:CONFIRMED
SUMMARY:TF Bergisch Land 1 vs. KCO Oberaußem
DESCRIPTION:Bezirksliga A (3. Spieltag)
LOCATION:Vereinsheim Bonn, Siemensstraße 14, 53121 Bonn
UID:SM-B14836@nwtfv.com
PRIORITY:5
SEQUENCE:0
CATEGORIES:SPORT
DTSTAMP:20260420T152456
END:VEVENT
BEGIN:VEVENT
CLASS:PUBLIC
DTSTART:20260517T123000Z
DURATION:PT2H30M
STATUS:CONFIRMED
SUMMARY:TF Bergisch Land 2 vs. KC Kerken
DESCRIPTION:Kreisliga C (3. Spieltag)
LOCATION:ESV Bootshaus, Obermeidericher Straße 200, 47138 Duisburg
UID:SM-B15180@nwtfv.com
PRIORITY:5
SEQUENCE:0
CATEGORIES:SPORT
DTSTAMP:20260420T152456
END:VEVENT
BEGIN:VEVENT
CLASS:PUBLIC
DTSTART:20260517T150000Z
DURATION:PT2H30M
STATUS:CONFIRMED
SUMMARY:TF Bergisch Land 1 vs. Kicker Crew Bonn 5
DESCRIPTION:Bezirksliga A (3. Spieltag)
LOCATION:Vereinsheim Bonn, Siemensstraße 14, 53121 Bonn
UID:SM-B14839@nwtfv.com
PRIORITY:5
SEQUENCE:0
CATEGORIES:SPORT
DTSTAMP:20260420T152456
END:VEVENT
BEGIN:VEVENT
CLASS:PUBLIC
DTSTART:20260517T150000Z
DURATION:PT2H30M
STATUS:CONFIRMED
SUMMARY:TF Bergisch Land 2 vs. Kickers Landhausen 1
DESCRIPTION:Kreisliga C (3. Spieltag)
LOCATION:ESV Bootshaus, Obermeidericher Straße 200, 47138 Duisburg
UID:SM-B15184@nwtfv.com
PRIORITY:5
SEQUENCE:0
CATEGORIES:SPORT
DTSTAMP:20260420T152456
END:VEVENT
BEGIN:VEVENT
CLASS:PUBLIC
DTSTART:20260621T100000Z
DURATION:PT2H30M
STATUS:CONFIRMED
SUMMARY:TF Bergisch Land 1 vs. Alemannia Aachen 6
DESCRIPTION:Bezirksliga A (4. Spieltag)
LOCATION:Alemannia Aachen - Abteilung Tischfußbal, Schumanstraße 29 (rechter Eing, 52146 Würselen
UID:SM-B14843@nwtfv.com
PRIORITY:5
SEQUENCE:0
CATEGORIES:SPORT
DTSTAMP:20260420T152456
END:VEVENT
BEGIN:VEVENT
CLASS:PUBLIC
DTSTART:20260621T100000Z
DURATION:PT2H30M
STATUS:CONFIRMED
SUMMARY:TF Bergisch Land 2 vs. KC Seniorenstift 1
DESCRIPTION:Kreisliga C (4. Spieltag)
LOCATION:Kickerburg, Deweerthstraße 2, 42107 Wuppertal
UID:SM-B15187@nwtfv.com
PRIORITY:5
SEQUENCE:0
CATEGORIES:SPORT
DTSTAMP:20260420T152456
END:VEVENT
BEGIN:VEVENT
CLASS:PUBLIC
DTSTART:20260621T123000Z
DURATION:PT2H30M
STATUS:CONFIRMED
SUMMARY:TF Bergisch Land 1 vs. Alemannia Aachen 4
DESCRIPTION:Bezirksliga A (4. Spieltag)
LOCATION:Alemannia Aachen - Abteilung Tischfußbal, Schumanstraße 29 (rechter Eing, 52146 Würselen
UID:SM-B14849@nwtfv.com
PRIORITY:5
SEQUENCE:0
CATEGORIES:SPORT
DTSTAMP:20260420T152456
END:VEVENT
BEGIN:VEVENT
CLASS:PUBLIC
DTSTART:20260621T123000Z
DURATION:PT2H30M
STATUS:CONFIRMED
SUMMARY:TF Bergisch Land 2 vs. ESV Meiderich 3
DESCRIPTION:Kreisliga C (4. Spieltag)
LOCATION:Kickerburg, Deweerthstraße 2, 42107 Wuppertal
UID:SM-B15192@nwtfv.com
PRIORITY:5
SEQUENCE:0
CATEGORIES:SPORT
DTSTAMP:20260420T152456
END:VEVENT
BEGIN:VEVENT
CLASS:PUBLIC
DTSTART:20260621T150000Z
DURATION:PT2H30M
STATUS:CONFIRMED
SUMMARY:Alemannia Aachen 3 vs. TF Bergisch Land 1
DESCRIPTION:Bezirksliga A (4. Spieltag)
LOCATION:Alemannia Aachen - Abteilung Tischfußbal, Schumanstraße 29 (rechter Eing, 52146 Würselen
UID:SM-B14853@nwtfv.com
PRIORITY:5
SEQUENCE:0
CATEGORIES:SPORT
DTSTAMP:20260420T152456
END:VEVENT
BEGIN:VEVENT
CLASS:PUBLIC
DTSTART:20260621T150000Z
DURATION:PT2H30M
STATUS:CONFIRMED
SUMMARY:Die Ehemaligen vs. TF Bergisch Land 2
DESCRIPTION:Kreisliga C (4. Spieltag)
LOCATION:Kickerburg, Deweerthstraße 2, 42107 Wuppertal
UID:SM-B15195@nwtfv.com
PRIORITY:5
SEQUENCE:0
CATEGORIES:SPORT
DTSTAMP:20260420T152456
END:VEVENT
BEGIN:VEVENT
CLASS:PUBLIC
DTSTART:20260906T100000Z
DURATION:PT2H30M
STATUS:CONFIRMED
SUMMARY:Kickerfreunde Oberhausen 3 vs. TF Bergisch Land 2
DESCRIPTION:Kreisliga C (5. Spieltag)
LOCATION:Vereinsheim Oberhausen, Bürgerstraße 15, 46049 Oberhausen
UID:SM-B15197@nwtfv.com
PRIORITY:5
SEQUENCE:0
CATEGORIES:SPORT
DTSTAMP:20260420T152456
END:VEVENT
BEGIN:VEVENT
CLASS:PUBLIC
DTSTART:20260906T100000Z
DURATION:PT2H30M
STATUS:CONFIRMED
SUMMARY:TFC Düsseldorf vs. TF Bergisch Land 1
DESCRIPTION:Bezirksliga A (5. Spieltag)
LOCATION:Landesleistungszentrum Kickertempel, Acker Str. 50, 47533 Kleve
UID:SM-B14856@nwtfv.com
PRIORITY:5
SEQUENCE:0
CATEGORIES:SPORT
DTSTAMP:20260420T152456
END:VEVENT
BEGIN:VEVENT
CLASS:PUBLIC
DTSTART:20260906T123000Z
DURATION:PT2H30M
STATUS:CONFIRMED
SUMMARY:TF Bergisch Land 1 vs. Tempelritter
DESCRIPTION:Bezirksliga A (5. Spieltag)
LOCATION:Landesleistungszentrum Kickertempel, Acker Str. 50, 47533 Kleve
UID:SM-B14861@nwtfv.com
PRIORITY:5
SEQUENCE:0
CATEGORIES:SPORT
DTSTAMP:20260420T152456
END:VEVENT
BEGIN:VEVENT
CLASS:PUBLIC
DTSTART:20260906T123000Z
DURATION:PT2H30M
STATUS:CONFIRMED
SUMMARY:TSV Viktoria Mülheim 2 vs. TF Bergisch Land 2
DESCRIPTION:Kreisliga C (5. Spieltag)
LOCATION:Vereinsheim Oberhausen, Bürgerstraße 15, 46049 Oberhausen
UID:SM-B15201@nwtfv.com
PRIORITY:5
SEQUENCE:0
CATEGORIES:SPORT
DTSTAMP:20260420T152456
END:VEVENT
BEGIN:VEVENT
CLASS:PUBLIC
DTSTART:20260906T150000Z
DURATION:PT2H30M
STATUS:CONFIRMED
SUMMARY:SpVg Odenkirchen 4 vs. TF Bergisch Land 1
DESCRIPTION:Bezirksliga A (5. Spieltag)
LOCATION:Landesleistungszentrum Kickertempel, Acker Str. 50, 47533 Kleve
UID:SM-B14866@nwtfv.com
PRIORITY:5
SEQUENCE:0
CATEGORIES:SPORT
DTSTAMP:20260420T152456
END:VEVENT
BEGIN:VEVENT
CLASS:PUBLIC
DTSTART:20261011T100000Z
DURATION:PT2H30M
STATUS:CONFIRMED
SUMMARY:TF Bergisch Land 1 vs. Masters of Puppets
DESCRIPTION:Bezirksliga A (6. Spieltag)
LOCATION:Landesleistungszentrum Kickertempel, Acker Str. 50, 47533 Kleve
UID:SM-B14873@nwtfv.com
PRIORITY:5
SEQUENCE:0
CATEGORIES:SPORT
DTSTAMP:20260420T152456
END:VEVENT
BEGIN:VEVENT
CLASS:PUBLIC
DTSTART:20261011T100000Z
DURATION:PT2H30M
STATUS:CONFIRMED
SUMMARY:TF Bergisch Land 2 vs. ESV Meiderich 4
DESCRIPTION:Kreisliga C (6. Spieltag)
LOCATION:Kickerburg, Deweerthstraße 2, 42107 Wuppertal
UID:SM-B15211@nwtfv.com
PRIORITY:5
SEQUENCE:0
CATEGORIES:SPORT
DTSTAMP:20260420T152456
END:VEVENT
BEGIN:VEVENT
CLASS:PUBLIC
DTSTART:20261011T123000Z
DURATION:PT2H30M
STATUS:CONFIRMED
SUMMARY:KC Kerken vs. TF Bergisch Land 2
DESCRIPTION:Kreisliga C (6. Spieltag)
LOCATION:Kickerburg, Deweerthstraße 2, 42107 Wuppertal
UID:SM-B15215@nwtfv.com
PRIORITY:5
SEQUENCE:0
CATEGORIES:SPORT
DTSTAMP:20260420T152456
END:VEVENT
BEGIN:VEVENT
CLASS:PUBLIC
DTSTART:20261011T123000Z
DURATION:PT2H30M
STATUS:CONFIRMED
SUMMARY:KCO Oberaußem vs. TF Bergisch Land 1
DESCRIPTION:Bezirksliga A (6. Spieltag)
LOCATION:Landesleistungszentrum Kickertempel, Acker Str. 50, 47533 Kleve
UID:SM-B14879@nwtfv.com
PRIORITY:5
SEQUENCE:0
CATEGORIES:SPORT
DTSTAMP:20260420T152456
END:VEVENT
BEGIN:VEVENT
CLASS:PUBLIC
DTSTART:20261011T150000Z
DURATION:PT2H30M
STATUS:CONFIRMED
SUMMARY:Kicker Crew Bonn 5 vs. TF Bergisch Land 1
DESCRIPTION:Bezirksliga A (6. Spieltag)
LOCATION:Landesleistungszentrum Kickertempel, Acker Str. 50, 47533 Kleve
UID:SM-B14884@nwtfv.com
PRIORITY:5
SEQUENCE:0
CATEGORIES:SPORT
DTSTAMP:20260420T152456
END:VEVENT
BEGIN:VEVENT
CLASS:PUBLIC
DTSTART:20261011T150000Z
DURATION:PT2H30M
STATUS:CONFIRMED
SUMMARY:Kickers Landhausen 1 vs. TF Bergisch Land 2
DESCRIPTION:Kreisliga C (6. Spieltag)
LOCATION:Kickerburg, Deweerthstraße 2, 42107 Wuppertal
UID:SM-B15220@nwtfv.com
PRIORITY:5
SEQUENCE:0
CATEGORIES:SPORT
DTSTAMP:20260420T152456
END:VEVENT
END:VCALENDAR
